BEGIN:VCALENDAR
VERSION:2.0
PRODID:-//Water Wrights - ECPv5.16.4//NONSGML v1.0//EN
CALSCALE:GREGORIAN
METHOD:PUBLISH
X-WR-CALNAME:Water Wrights
X-ORIGINAL-URL:https://waterwrights.net
X-WR-CALDESC:Events for Water Wrights
BEGIN:VTIMEZONE
TZID:UTC
BEGIN:STANDARD
TZOFFSETFROM:+0000
TZOFFSETTO:+0000
TZNAME:UTC
DTSTART:20170101T000000
END:STANDARD
END:VTIMEZONE
BEGIN:VEVENT
DTSTART;TZID=UTC:20171114T120000
DTEND;TZID=UTC:20171114T150000
DTSTAMP:20260421T050008
CREATED:20171031T234428Z
LAST-MODIFIED:20171031T234428Z
UID:691-1510660800-1510671600@waterwrights.net
SUMMARY:Arvin Edison WSD
DESCRIPTION:Arvin\, CA
URL:https://waterwrights.net/event/arvin-edison-wsd/
END:VEVENT
END:VCALENDAR