BEGIN:VCALENDAR
VERSION:2.0
PRODID:-//Water Wrights - ECPv5.16.4//NONSGML v1.0//EN
CALSCALE:GREGORIAN
METHOD:PUBLISH
X-WR-CALNAME:Water Wrights
X-ORIGINAL-URL:https://waterwrights.net
X-WR-CALDESC:Events for Water Wrights
BEGIN:VTIMEZONE
TZID:America/Los_Angeles
BEGIN:DAYLIGHT
TZOFFSETFROM:-0800
TZOFFSETTO:-0700
TZNAME:PDT
DTSTART:20250309T100000
END:DAYLIGHT
BEGIN:STANDARD
TZOFFSETFROM:-0700
TZOFFSETTO:-0800
TZNAME:PST
DTSTART:20251102T090000
END:STANDARD
END:VTIMEZONE
BEGIN:VEVENT
DTSTART;VALUE=DATE:20250820
DTEND;VALUE=DATE:20250821
DTSTAMP:20260421T030721
CREATED:20250802T005844Z
LAST-MODIFIED:20250802T005844Z
UID:29792-1755648000-1755734399@waterwrights.net
SUMMARY:Buena Vista WSD – 3rd Wednesday (time varies)
DESCRIPTION:Address: 525 Main Street\, Buttonwillow\, CA 93206Phone: 661/324-1101Website: www.bvh2o.comManager: Tim AshlockEmail: athompson@bvh2o.com
URL:https://waterwrights.net/event/buena-vista-wsd-3rd-wednesday-time-varies-4/
END:VEVENT
END:VCALENDAR