BEGIN:VCALENDAR
VERSION:2.0
PRODID:-//Water Wrights - ECPv5.16.4//NONSGML v1.0//EN
CALSCALE:GREGORIAN
METHOD:PUBLISH
X-WR-CALNAME:Water Wrights
X-ORIGINAL-URL:https://waterwrights.net
X-WR-CALDESC:Events for Water Wrights
BEGIN:VTIMEZONE
TZID:America/Los_Angeles
BEGIN:DAYLIGHT
TZOFFSETFROM:-0800
TZOFFSETTO:-0700
TZNAME:PDT
DTSTART:20220313T100000
END:DAYLIGHT
BEGIN:STANDARD
TZOFFSETFROM:-0700
TZOFFSETTO:-0800
TZNAME:PST
DTSTART:20221106T090000
END:STANDARD
END:VTIMEZONE
BEGIN:VEVENT
DTSTART;TZID=America/Los_Angeles:20220810T133000
DTEND;TZID=America/Los_Angeles:20220810T153000
DTSTAMP:20260422T044447
CREATED:20220707T212531Z
LAST-MODIFIED:20220804T195545Z
UID:17282-1660138200-1660145400@waterwrights.net
SUMMARY:Chowchilla Water District 1:30pm
DESCRIPTION:Chowchilla WD 1:30pm – 3:30pm\n327 S Chowchilla Blvd\, Chowchilla\, CA 93610\nwww.cwdwater.com
URL:https://waterwrights.net/event/chowchilla-water-district-130pm-3/
END:VEVENT
END:VCALENDAR