BEGIN:VCALENDAR
VERSION:2.0
PRODID:-//Water Wrights - ECPv5.16.4//NONSGML v1.0//EN
CALSCALE:GREGORIAN
METHOD:PUBLISH
X-WR-CALNAME:Water Wrights
X-ORIGINAL-URL:https://waterwrights.net
X-WR-CALDESC:Events for Water Wrights
BEGIN:VTIMEZONE
TZID:America/Los_Angeles
BEGIN:DAYLIGHT
TZOFFSETFROM:-0800
TZOFFSETTO:-0700
TZNAME:PDT
DTSTART:20210314T100000
END:DAYLIGHT
BEGIN:STANDARD
TZOFFSETFROM:-0700
TZOFFSETTO:-0800
TZNAME:PST
DTSTART:20211107T090000
END:STANDARD
END:VTIMEZONE
BEGIN:VEVENT
DTSTART;TZID=America/Los_Angeles:20210908T130000
DTEND;TZID=America/Los_Angeles:20210908T150000
DTSTAMP:20260422T213427
CREATED:20210829T202805Z
LAST-MODIFIED:20210903T192524Z
UID:14767-1631106000-1631113200@waterwrights.net
SUMMARY:Consolidated ID - 1 pm - Cancelled
DESCRIPTION:Consolidated ID – Board 1 pm – https://cidwater.com/ \nIn person: 2255 Chandler Street\, Selma\, CA 93662 \nPhone in: 1 (786) 535-3211 / Access code: 941-973-285
URL:https://waterwrights.net/event/consolidated-id-1-pm-4/
END:VEVENT
END:VCALENDAR