BEGIN:VCALENDAR
VERSION:2.0
PRODID:-//Water Wrights - ECPv5.16.4//NONSGML v1.0//EN
CALSCALE:GREGORIAN
METHOD:PUBLISH
X-WR-CALNAME:Water Wrights
X-ORIGINAL-URL:https://waterwrights.net
X-WR-CALDESC:Events for Water Wrights
BEGIN:VTIMEZONE
TZID:UTC
BEGIN:STANDARD
TZOFFSETFROM:+0000
TZOFFSETTO:+0000
TZNAME:UTC
DTSTART:20180101T000000
END:STANDARD
END:VTIMEZONE
BEGIN:VEVENT
DTSTART;TZID=UTC:20180614T090000
DTEND;TZID=UTC:20180614T103000
DTSTAMP:20260424T014726
CREATED:20180531T014317Z
LAST-MODIFIED:20180531T014317Z
UID:2152-1528966800-1528972200@waterwrights.net
SUMMARY:CWD 9am
DESCRIPTION:Cawelo WD\, Kern County 9am
URL:https://waterwrights.net/event/cwd-9am/
END:VEVENT
END:VCALENDAR