BEGIN:VCALENDAR
VERSION:2.0
PRODID:-//Water Wrights - ECPv5.16.4//NONSGML v1.0//EN
CALSCALE:GREGORIAN
METHOD:PUBLISH
X-WR-CALNAME:Water Wrights
X-ORIGINAL-URL:https://waterwrights.net
X-WR-CALDESC:Events for Water Wrights
BEGIN:VTIMEZONE
TZID:America/Los_Angeles
BEGIN:DAYLIGHT
TZOFFSETFROM:-0800
TZOFFSETTO:-0700
TZNAME:PDT
DTSTART:20230312T100000
END:DAYLIGHT
BEGIN:STANDARD
TZOFFSETFROM:-0700
TZOFFSETTO:-0800
TZNAME:PST
DTSTART:20231105T090000
END:STANDARD
END:VTIMEZONE
BEGIN:VEVENT
DTSTART;TZID=America/Los_Angeles:20230831T150000
DTEND;TZID=America/Los_Angeles:20230831T170000
DTSTAMP:20260421T092827
CREATED:20230828T034144Z
LAST-MODIFIED:20230828T034144Z
UID:23159-1693494000-1693501200@waterwrights.net
SUMMARY:Fresno ID 3PM Personal Committee
DESCRIPTION:FRESNO IRRIGATION DISTRICT\nPERSONNEL COMMITTEE MEETING\n2907 S MAPLE AVENUE – FRESNO\, CA 93725\nTHURSDAY\, AUGUST 29\, 2023 – 3:00 P.M.
URL:https://waterwrights.net/event/fresno-id-3pm-personal-committee/
LOCATION:Fresno Irrigation District\, 2097 S. Mapel Ave\, Fresno\, California\, 93725
END:VEVENT
END:VCALENDAR