BEGIN:VCALENDAR
VERSION:2.0
PRODID:-//Water Wrights - ECPv5.16.4//NONSGML v1.0//EN
CALSCALE:GREGORIAN
METHOD:PUBLISH
X-WR-CALNAME:Water Wrights
X-ORIGINAL-URL:https://waterwrights.net
X-WR-CALDESC:Events for Water Wrights
BEGIN:VTIMEZONE
TZID:America/Los_Angeles
BEGIN:DAYLIGHT
TZOFFSETFROM:-0800
TZOFFSETTO:-0700
TZNAME:PDT
DTSTART:20230312T100000
END:DAYLIGHT
BEGIN:STANDARD
TZOFFSETFROM:-0700
TZOFFSETTO:-0800
TZNAME:PST
DTSTART:20231105T090000
END:STANDARD
END:VTIMEZONE
BEGIN:VEVENT
DTSTART;TZID=America/Los_Angeles:20230824T140000
DTEND;TZID=America/Los_Angeles:20230824T160000
DTSTAMP:20260421T092920
CREATED:20230824T050646Z
LAST-MODIFIED:20230824T050646Z
UID:23147-1692885600-1692892800@waterwrights.net
SUMMARY:Fresno ID Finance committee 2PM
DESCRIPTION:Fresno Irrigation District Finance Committee \nMeeting – August 24\, 2023 \nFresno Irrigation District Office\n2907 S. Maple\nFresno\, 93725
URL:https://waterwrights.net/event/fresno-id-finance-committee-2pm/
LOCATION:2907 S MAPLE AVENUE FRESNO\, CA 93725\, 2907 S Maple avenue\, Fresno\, CA\, 93725\, United States
END:VEVENT
END:VCALENDAR