BEGIN:VCALENDAR
VERSION:2.0
PRODID:-//Water Wrights - ECPv5.16.4//NONSGML v1.0//EN
CALSCALE:GREGORIAN
METHOD:PUBLISH
X-WR-CALNAME:Water Wrights
X-ORIGINAL-URL:https://waterwrights.net
X-WR-CALDESC:Events for Water Wrights
BEGIN:VTIMEZONE
TZID:America/Los_Angeles
BEGIN:DAYLIGHT
TZOFFSETFROM:-0800
TZOFFSETTO:-0700
TZNAME:PDT
DTSTART:20250309T100000
END:DAYLIGHT
BEGIN:STANDARD
TZOFFSETFROM:-0700
TZOFFSETTO:-0800
TZNAME:PST
DTSTART:20251102T090000
END:STANDARD
END:VTIMEZONE
BEGIN:VEVENT
DTSTART;TZID=America/Los_Angeles:20251208T130000
DTEND;TZID=America/Los_Angeles:20251208T150000
DTSTAMP:20260419T182639
CREATED:20251205T211305Z
LAST-MODIFIED:20251205T211305Z
UID:30761-1765198800-1765206000@waterwrights.net
SUMMARY:Greater Kaweah GSA 1pm
DESCRIPTION:Kaweah Delta WCD offices 2975 N. Farmersville Blvd Farmersville CA 93223 \n559/302-9987 www.greaterkaweahgsa.org
URL:https://waterwrights.net/event/greater-kaweah-gsa-1pm-36/
END:VEVENT
END:VCALENDAR