BEGIN:VCALENDAR
VERSION:2.0
PRODID:-//Water Wrights - ECPv5.16.4//NONSGML v1.0//EN
CALSCALE:GREGORIAN
METHOD:PUBLISH
X-WR-CALNAME:Water Wrights
X-ORIGINAL-URL:https://waterwrights.net
X-WR-CALDESC:Events for Water Wrights
BEGIN:VTIMEZONE
TZID:America/Los_Angeles
BEGIN:DAYLIGHT
TZOFFSETFROM:-0800
TZOFFSETTO:-0700
TZNAME:PDT
DTSTART:20220313T100000
END:DAYLIGHT
BEGIN:STANDARD
TZOFFSETFROM:-0700
TZOFFSETTO:-0800
TZNAME:PST
DTSTART:20221106T090000
END:STANDARD
END:VTIMEZONE
BEGIN:VEVENT
DTSTART;TZID=America/Los_Angeles:20220105T133000
DTEND;TZID=America/Los_Angeles:20220105T150000
DTSTAMP:20260421T094456
CREATED:20211229T161524Z
LAST-MODIFIED:20220103T204134Z
UID:15621-1641389400-1641394800@waterwrights.net
SUMMARY:Greater Kaweah GSA Pump Cap Workshop 1:30pm
DESCRIPTION:GKGSA Workshop on Pump Caps Wednesday\, January 5\, 2022 1:30 PM – 3:00 PM https://greaterkaweahgsa.org/pumpingcap/ \nHeritage Complex\, International Agri-Center 4500 Laspina Street\, Tulare\, CA 93724
URL:https://waterwrights.net/event/greater-kaweah-gsa-pump-cap-workshop/
LOCATION:World Ag Expo Tulare CA
END:VEVENT
END:VCALENDAR