BEGIN:VCALENDAR
VERSION:2.0
PRODID:-//Water Wrights - ECPv5.16.4//NONSGML v1.0//EN
CALSCALE:GREGORIAN
METHOD:PUBLISH
X-WR-CALNAME:Water Wrights
X-ORIGINAL-URL:https://waterwrights.net
X-WR-CALDESC:Events for Water Wrights
BEGIN:VTIMEZONE
TZID:America/Los_Angeles
BEGIN:DAYLIGHT
TZOFFSETFROM:-0800
TZOFFSETTO:-0700
TZNAME:PDT
DTSTART:20220313T100000
END:DAYLIGHT
BEGIN:STANDARD
TZOFFSETFROM:-0700
TZOFFSETTO:-0800
TZNAME:PST
DTSTART:20221106T090000
END:STANDARD
END:VTIMEZONE
BEGIN:VEVENT
DTSTART;TZID=America/Los_Angeles:20220510T150000
DTEND;TZID=America/Los_Angeles:20220510T160000
DTSTAMP:20260422T092424
CREATED:20220502T134901Z
LAST-MODIFIED:20220509T205429Z
UID:16828-1652194800-1652198400@waterwrights.net
SUMMARY:Kern Water Bank 3pm Cancelled
DESCRIPTION:Kern Water Bank Board 3pm http://www.kwb.org
URL:https://waterwrights.net/event/kern-water-bank-3pm-15/
END:VEVENT
END:VCALENDAR