BEGIN:VCALENDAR
VERSION:2.0
PRODID:-//Water Wrights - ECPv5.16.4//NONSGML v1.0//EN
CALSCALE:GREGORIAN
METHOD:PUBLISH
X-WR-CALNAME:Water Wrights
X-ORIGINAL-URL:https://waterwrights.net
X-WR-CALDESC:Events for Water Wrights
BEGIN:VTIMEZONE
TZID:America/Los_Angeles
BEGIN:DAYLIGHT
TZOFFSETFROM:-0800
TZOFFSETTO:-0700
TZNAME:PDT
DTSTART:20220313T100000
END:DAYLIGHT
BEGIN:STANDARD
TZOFFSETFROM:-0700
TZOFFSETTO:-0800
TZNAME:PST
DTSTART:20221106T090000
END:STANDARD
END:VTIMEZONE
BEGIN:VEVENT
DTSTART;TZID=America/Los_Angeles:20220511T140000
DTEND;TZID=America/Los_Angeles:20220511T170000
DTSTAMP:20260422T105232
CREATED:20220509T201228Z
LAST-MODIFIED:20220509T201228Z
UID:16869-1652277600-1652288400@waterwrights.net
SUMMARY:McMullin Area GSA Board 2pm Cancelled
DESCRIPTION:MAGSA Board Cancelled. Rescheduled for June 1st
URL:https://waterwrights.net/event/mcmullin-area-gsa-board-2pm-cancelled/
END:VEVENT
END:VCALENDAR