BEGIN:VCALENDAR
VERSION:2.0
PRODID:-//Water Wrights - ECPv5.16.4//NONSGML v1.0//EN
CALSCALE:GREGORIAN
METHOD:PUBLISH
X-WR-CALNAME:Water Wrights
X-ORIGINAL-URL:https://waterwrights.net
X-WR-CALDESC:Events for Water Wrights
BEGIN:VTIMEZONE
TZID:America/Los_Angeles
BEGIN:DAYLIGHT
TZOFFSETFROM:-0800
TZOFFSETTO:-0700
TZNAME:PDT
DTSTART:20230312T100000
END:DAYLIGHT
BEGIN:STANDARD
TZOFFSETFROM:-0700
TZOFFSETTO:-0800
TZNAME:PST
DTSTART:20231105T090000
END:STANDARD
END:VTIMEZONE
BEGIN:VEVENT
DTSTART;TZID=America/Los_Angeles:20231011T113000
DTEND;TZID=America/Los_Angeles:20231011T133000
DTSTAMP:20260421T061142
CREATED:20231004T035150Z
LAST-MODIFIED:20231004T035150Z
UID:23843-1697023800-1697031000@waterwrights.net
SUMMARY:Orange Cove ID 11:45AM
DESCRIPTION:2nd Wednesday 11:45am
URL:https://waterwrights.net/event/orange-cove-id-1145am-6/
LOCATION:Orange Cove ID\, 1130 Park Ave\, Orange Cove\, California\, 93646
END:VEVENT
END:VCALENDAR