BEGIN:VCALENDAR
VERSION:2.0
PRODID:-//Water Wrights - ECPv5.16.4//NONSGML v1.0//EN
CALSCALE:GREGORIAN
METHOD:PUBLISH
X-WR-CALNAME:Water Wrights
X-ORIGINAL-URL:https://waterwrights.net
X-WR-CALDESC:Events for Water Wrights
BEGIN:VTIMEZONE
TZID:America/Los_Angeles
BEGIN:DAYLIGHT
TZOFFSETFROM:-0800
TZOFFSETTO:-0700
TZNAME:PDT
DTSTART:20180311T100000
END:DAYLIGHT
BEGIN:STANDARD
TZOFFSETFROM:-0700
TZOFFSETTO:-0800
TZNAME:PST
DTSTART:20181104T090000
END:STANDARD
END:VTIMEZONE
BEGIN:VEVENT
DTSTART;TZID=America/Los_Angeles:20181009T123000
DTEND;TZID=America/Los_Angeles:20181009T150000
DTSTAMP:20260424T031756
CREATED:20181005T013910Z
LAST-MODIFIED:20181005T013910Z
UID:2916-1539088200-1539097200@waterwrights.net
SUMMARY:Semitropic WDS 12:30pm different day
DESCRIPTION:Semitropic WSD 12:30pm Wasco usually on Wednesday
URL:https://waterwrights.net/event/semitropic-wds-1230pm-different-day/
END:VEVENT
END:VCALENDAR