BEGIN:VCALENDAR
VERSION:2.0
PRODID:-//Water Wrights - ECPv5.16.4//NONSGML v1.0//EN
CALSCALE:GREGORIAN
METHOD:PUBLISH
X-WR-CALNAME:Water Wrights
X-ORIGINAL-URL:https://waterwrights.net
X-WR-CALDESC:Events for Water Wrights
BEGIN:VTIMEZONE
TZID:America/Los_Angeles
BEGIN:DAYLIGHT
TZOFFSETFROM:-0800
TZOFFSETTO:-0700
TZNAME:PDT
DTSTART:20220313T100000
END:DAYLIGHT
BEGIN:STANDARD
TZOFFSETFROM:-0700
TZOFFSETTO:-0800
TZNAME:PST
DTSTART:20221106T090000
END:STANDARD
END:VTIMEZONE
BEGIN:VEVENT
DTSTART;TZID=America/Los_Angeles:20220511T123000
DTEND;TZID=America/Los_Angeles:20220511T150000
DTSTAMP:20260422T091859
CREATED:20220502T134641Z
LAST-MODIFIED:20220502T134641Z
UID:16824-1652272200-1652281200@waterwrights.net
SUMMARY:Semitropic WSD 12:30pm
DESCRIPTION:Semitropic Water Storage District Board 12:30pm http://www.semitropic.com
URL:https://waterwrights.net/event/semitropic-wsd-1230pm-7/
END:VEVENT
END:VCALENDAR