BEGIN:VCALENDAR
VERSION:2.0
PRODID:-//Water Wrights - ECPv5.16.4//NONSGML v1.0//EN
CALSCALE:GREGORIAN
METHOD:PUBLISH
X-WR-CALNAME:Water Wrights
X-ORIGINAL-URL:https://waterwrights.net
X-WR-CALDESC:Events for Water Wrights
BEGIN:VTIMEZONE
TZID:America/Los_Angeles
BEGIN:DAYLIGHT
TZOFFSETFROM:-0800
TZOFFSETTO:-0700
TZNAME:PDT
DTSTART:20210314T100000
END:DAYLIGHT
BEGIN:STANDARD
TZOFFSETFROM:-0700
TZOFFSETTO:-0800
TZNAME:PST
DTSTART:20211107T090000
END:STANDARD
END:VTIMEZONE
BEGIN:VEVENT
DTSTART;TZID=America/Los_Angeles:20210812T100000
DTEND;TZID=America/Los_Angeles:20210812T120000
DTSTAMP:20260422T225411
CREATED:20210729T185613Z
LAST-MODIFIED:20210813T171344Z
UID:14485-1628762400-1628769600@waterwrights.net
SUMMARY:Triangle T WD - 10 am
DESCRIPTION:Triangle T WD – Board 10 am – (209) 665-1788 – http://triangletwaterdistrict.org/ \nRead the Report: https://waterwrights.net/2021/08/12/triangle-t-water-district-august-12-2021/
URL:https://waterwrights.net/event/triangle-t-wd-10-am-2/
END:VEVENT
BEGIN:VEVENT
DTSTART;TZID=America/Los_Angeles:20210812T100000
DTEND;TZID=America/Los_Angeles:20210812T113000
DTSTAMP:20260422T225411
CREATED:20210806T145008Z
LAST-MODIFIED:20210806T145008Z
UID:14623-1628762400-1628767800@waterwrights.net
SUMMARY:Drought Webinar 10am
DESCRIPTION:Water Resources for Small\, Rural and Disadvantaged Communities by California Cattle Council\, Western United Dairies and California Cattlemen’s Association https://us02web.zoom.us/j/84861911880  \n 
URL:https://waterwrights.net/event/drought-webinar-10am/
END:VEVENT
BEGIN:VEVENT
DTSTART;TZID=America/Los_Angeles:20210812T133000
DTEND;TZID=America/Los_Angeles:20210812T153000
DTSTAMP:20260422T225411
CREATED:20210729T221019Z
LAST-MODIFIED:20210804T193401Z
UID:14583-1628775000-1628782200@waterwrights.net
SUMMARY:Butte WD - 1:30 pm - CANCELLED
DESCRIPTION:Butte WD – Board 1:30 pm – https://buttewaterdistrict.org/ \nPhone-In: (310) 372-7549 \nConference Code: 531136
URL:https://waterwrights.net/event/butte-wd-130-pm-3/
END:VEVENT
BEGIN:VEVENT
DTSTART;TZID=America/Los_Angeles:20210812T143000
DTEND;TZID=America/Los_Angeles:20210812T163000
DTSTAMP:20260422T225411
CREATED:20210729T201113Z
LAST-MODIFIED:20210729T201113Z
UID:14510-1628778600-1628785800@waterwrights.net
SUMMARY:Kern Tulare WD - 2:30 pm
DESCRIPTION:Kern Tulare WD – Board 2:30 pm – https://kern-tulare.com/
URL:https://waterwrights.net/event/kern-tulare-wd-230-pm-3/
END:VEVENT
BEGIN:VEVENT
DTSTART;TZID=America/Los_Angeles:20210812T150000
DTEND;TZID=America/Los_Angeles:20210812T170000
DTSTAMP:20260422T225411
CREATED:20210729T191225Z
LAST-MODIFIED:20210813T171258Z
UID:14495-1628780400-1628787600@waterwrights.net
SUMMARY:Fresno ID - 3 pm
DESCRIPTION:Fresno ID – Board 3 pm – www.fresnoirrigation.com – (559) 233-7161 \nRead the Report: https://waterwrights.net/2021/08/13/fresno-irrigation-district-august-12-2021/
URL:https://waterwrights.net/event/fresno-id-3-pm-3/
END:VEVENT
BEGIN:VEVENT
DTSTART;TZID=America/Los_Angeles:20210812T160000
DTEND;TZID=America/Los_Angeles:20210812T180000
DTSTAMP:20260422T225411
CREATED:20210729T200036Z
LAST-MODIFIED:20210729T200036Z
UID:14508-1628784000-1628791200@waterwrights.net
SUMMARY:Delano Earlimart ID - 4 pm
DESCRIPTION:Delano Earlimart ID – Board 4 pm – https://www.deid.org/
URL:https://waterwrights.net/event/delano-earlimart-id-4-pm-3/
END:VEVENT
END:VCALENDAR