BEGIN:VCALENDAR
VERSION:2.0
PRODID:-//Water Wrights - ECPv5.16.4//NONSGML v1.0//EN
CALSCALE:GREGORIAN
METHOD:PUBLISH
X-WR-CALNAME:Water Wrights
X-ORIGINAL-URL:https://waterwrights.net
X-WR-CALDESC:Events for Water Wrights
BEGIN:VTIMEZONE
TZID:America/Los_Angeles
BEGIN:DAYLIGHT
TZOFFSETFROM:-0800
TZOFFSETTO:-0700
TZNAME:PDT
DTSTART:20210314T100000
END:DAYLIGHT
BEGIN:STANDARD
TZOFFSETFROM:-0700
TZOFFSETTO:-0800
TZNAME:PST
DTSTART:20211107T090000
END:STANDARD
END:VTIMEZONE
BEGIN:VEVENT
DTSTART;TZID=America/Los_Angeles:20210817T090000
DTEND;TZID=America/Los_Angeles:20210817T110000
DTSTAMP:20260422T225157
CREATED:20210729T221538Z
LAST-MODIFIED:20210729T221538Z
UID:14587-1629190800-1629198000@waterwrights.net
SUMMARY:Yuba County WA - 9 am
DESCRIPTION:Yuba County WA – Board 9 am – https://www.yubawater.org/ \nIn-Person: 915 8th Street Marysville\, CA 95901
URL:https://waterwrights.net/event/yuba-county-wa-9-am-4/
END:VEVENT
BEGIN:VEVENT
DTSTART;TZID=America/Los_Angeles:20210817T090000
DTEND;TZID=America/Los_Angeles:20210817T110000
DTSTAMP:20260422T225157
CREATED:20210729T222753Z
LAST-MODIFIED:20210729T222753Z
UID:14595-1629190800-1629198000@waterwrights.net
SUMMARY:Western Canal WD - 9 am
DESCRIPTION:Western Canal WD – Board 9 am – http://westerncanal.com/ – (530) 342 – 5083
URL:https://waterwrights.net/event/western-canal-wd-9-am-3/
END:VEVENT
BEGIN:VEVENT
DTSTART;TZID=America/Los_Angeles:20210817T130000
DTEND;TZID=America/Los_Angeles:20210817T150000
DTSTAMP:20260422T225157
CREATED:20210729T191123Z
LAST-MODIFIED:20210729T191123Z
UID:14493-1629205200-1629212400@waterwrights.net
SUMMARY:Westlands ID - 1 pm
DESCRIPTION:Westlands ID – Board 1 pm – https://wwd.ca.gov/
URL:https://waterwrights.net/event/westlands-id-1-pm-2/
END:VEVENT
BEGIN:VEVENT
DTSTART;TZID=America/Los_Angeles:20210817T130000
DTEND;TZID=America/Los_Angeles:20210817T150000
DTSTAMP:20260422T225157
CREATED:20210729T210945Z
LAST-MODIFIED:20210729T210945Z
UID:14544-1629205200-1629212400@waterwrights.net
SUMMARY:Westlands WD GSA - 1 pm
DESCRIPTION:Westlands WD GSA – Board 1 pm – https://wwd.ca.gov/
URL:https://waterwrights.net/event/westlands-wd-gsa-1-pm-3/
END:VEVENT
BEGIN:VEVENT
DTSTART;TZID=America/Los_Angeles:20210817T140000
DTEND;TZID=America/Los_Angeles:20210817T160000
DTSTAMP:20260422T225157
CREATED:20210729T190817Z
LAST-MODIFIED:20210814T163747Z
UID:14491-1629208800-1629216000@waterwrights.net
SUMMARY:Madera ID - 2 pm - CANCELLED
DESCRIPTION:Madera ID – Board 2 pm – https://www.madera-id.org/ \n 
URL:https://waterwrights.net/event/madera-id-2-pm-3/
END:VEVENT
END:VCALENDAR