BEGIN:VCALENDAR
VERSION:2.0
PRODID:-//Water Wrights - ECPv5.16.4//NONSGML v1.0//EN
CALSCALE:GREGORIAN
METHOD:PUBLISH
X-WR-CALNAME:Water Wrights
X-ORIGINAL-URL:https://waterwrights.net
X-WR-CALDESC:Events for Water Wrights
BEGIN:VTIMEZONE
TZID:America/Los_Angeles
BEGIN:DAYLIGHT
TZOFFSETFROM:-0800
TZOFFSETTO:-0700
TZNAME:PDT
DTSTART:20210314T100000
END:DAYLIGHT
BEGIN:STANDARD
TZOFFSETFROM:-0700
TZOFFSETTO:-0800
TZNAME:PST
DTSTART:20211107T090000
END:STANDARD
END:VTIMEZONE
BEGIN:VEVENT
DTSTART;TZID=America/Los_Angeles:20210913T090000
DTEND;TZID=America/Los_Angeles:20210913T120000
DTSTAMP:20260422T212713
CREATED:20210830T221620Z
LAST-MODIFIED:20210915T212815Z
UID:14831-1631523600-1631534400@waterwrights.net
SUMMARY:Friant Water Authority - 9 am
DESCRIPTION:Friant Water Authority – Executive 9 am – https://friantwater.org/ \nRead the Report: https://waterwrights.net/2021/09/13/friant-water-authority-september-13-2021/
URL:https://waterwrights.net/event/friant-water-authority-9-am-4/
END:VEVENT
BEGIN:VEVENT
DTSTART;TZID=America/Los_Angeles:20210913T130000
DTEND;TZID=America/Los_Angeles:20210913T150000
DTSTAMP:20260422T212713
CREATED:20210830T220140Z
LAST-MODIFIED:20210830T220140Z
UID:14815-1631538000-1631545200@waterwrights.net
SUMMARY:Greater Kaweah GSA - 1 pm
DESCRIPTION:Greater Kaweah GSA – Board 1 pm – www.greaterkaweahgsa.org
URL:https://waterwrights.net/event/greater-kaweah-gsa-1-pm-4/
END:VEVENT
END:VCALENDAR