BEGIN:VCALENDAR
VERSION:2.0
PRODID:-//Water Wrights - ECPv5.16.4//NONSGML v1.0//EN
CALSCALE:GREGORIAN
METHOD:PUBLISH
X-WR-CALNAME:Water Wrights
X-ORIGINAL-URL:https://waterwrights.net
X-WR-CALDESC:Events for Water Wrights
BEGIN:VTIMEZONE
TZID:America/Los_Angeles
BEGIN:DAYLIGHT
TZOFFSETFROM:-0800
TZOFFSETTO:-0700
TZNAME:PDT
DTSTART:20210314T100000
END:DAYLIGHT
BEGIN:STANDARD
TZOFFSETFROM:-0700
TZOFFSETTO:-0800
TZNAME:PST
DTSTART:20211107T090000
END:STANDARD
END:VTIMEZONE
BEGIN:VEVENT
DTSTART;TZID=America/Los_Angeles:20210914T080000
DTEND;TZID=America/Los_Angeles:20210914T100000
DTSTAMP:20260422T213425
CREATED:20210830T211900Z
LAST-MODIFIED:20210830T211900Z
UID:14790-1631606400-1631613600@waterwrights.net
SUMMARY:Rosedale Rio Bravo WSD - 8 am
DESCRIPTION:Rosedale Rio Bravo WSD – Board 8 am – https://www.rrbwsd.com/
URL:https://waterwrights.net/event/rosedale-rio-bravo-wsd-8-am-3/
END:VEVENT
BEGIN:VEVENT
DTSTART;TZID=America/Los_Angeles:20210914T090000
DTEND;TZID=America/Los_Angeles:20210914T110000
DTSTAMP:20260422T213425
CREATED:20210829T204502Z
LAST-MODIFIED:20210829T204502Z
UID:14771-1631610000-1631617200@waterwrights.net
SUMMARY:Corcoran ID - 9 am
DESCRIPTION:Corcoran ID – Board 9 am – (559) 992 – 5165
URL:https://waterwrights.net/event/corcoran-id-9-am-4/
END:VEVENT
BEGIN:VEVENT
DTSTART;TZID=America/Los_Angeles:20210914T090000
DTEND;TZID=America/Los_Angeles:20210914T110000
DTSTAMP:20260422T213425
CREATED:20210829T204738Z
LAST-MODIFIED:20210915T212911Z
UID:14775-1631610000-1631617200@waterwrights.net
SUMMARY:Tulare ID - 9 am
DESCRIPTION:Tulare ID – Board 9 am – https://tulareid.org/ \nRead the Report: https://waterwrights.net/2021/09/14/tulare-irrigation-district-september-14-2021/
URL:https://waterwrights.net/event/tulare-id-9-am-4/
END:VEVENT
BEGIN:VEVENT
DTSTART;TZID=America/Los_Angeles:20210914T090000
DTEND;TZID=America/Los_Angeles:20210914T110000
DTSTAMP:20260422T213425
CREATED:20210829T205349Z
LAST-MODIFIED:20210829T205349Z
UID:14777-1631610000-1631617200@waterwrights.net
SUMMARY:Lower Tule River ID - 9 am
DESCRIPTION:Lower Tule River ID – Board 9 am – http://www.ltrid.org/
URL:https://waterwrights.net/event/lower-tule-river-id-9-am-4/
END:VEVENT
BEGIN:VEVENT
DTSTART;TZID=America/Los_Angeles:20210914T090000
DTEND;TZID=America/Los_Angeles:20210914T110000
DTSTAMP:20260422T213425
CREATED:20210830T212219Z
LAST-MODIFIED:20210830T212219Z
UID:14796-1631610000-1631617200@waterwrights.net
SUMMARY:Turlock ID - 9 am
DESCRIPTION:Turlock ID – Board 9 am – https://www.tid.org/
URL:https://waterwrights.net/event/turlock-id-9-am-7/
END:VEVENT
BEGIN:VEVENT
DTSTART;TZID=America/Los_Angeles:20210914T090000
DTEND;TZID=America/Los_Angeles:20210914T110000
DTSTAMP:20260422T213425
CREATED:20210830T212700Z
LAST-MODIFIED:20210830T212700Z
UID:14802-1631610000-1631617200@waterwrights.net
SUMMARY:Modesto ID - 9 am
DESCRIPTION:Modesto ID – Board 9 am – https://www.mid.org/
URL:https://waterwrights.net/event/modesto-id-9-am-4/
END:VEVENT
BEGIN:VEVENT
DTSTART;TZID=America/Los_Angeles:20210914T093000
DTEND;TZID=America/Los_Angeles:20210914T113000
DTSTAMP:20260422T213425
CREATED:20210830T213703Z
LAST-MODIFIED:20210830T213703Z
UID:14807-1631611800-1631619000@waterwrights.net
SUMMARY:Central Delta WA - 9:30 am
DESCRIPTION:Central Delta WA – Board 9:30 am – (209) 465-5883
URL:https://waterwrights.net/event/central-delta-wa-930-am-3/
END:VEVENT
BEGIN:VEVENT
DTSTART;TZID=America/Los_Angeles:20210914T130000
DTEND;TZID=America/Los_Angeles:20210914T150000
DTSTAMP:20260422T213425
CREATED:20210830T220834Z
LAST-MODIFIED:20210830T220847Z
UID:14821-1631624400-1631631600@waterwrights.net
SUMMARY:Mid Kings River GSA - 1 pm
DESCRIPTION:Mid Kings River GSA – Board 1 pm – www.midkingsrivergsa.org
URL:https://waterwrights.net/event/mid-kings-river-gsa-1-pm-3/
END:VEVENT
BEGIN:VEVENT
DTSTART;TZID=America/Los_Angeles:20210914T130000
DTEND;TZID=America/Los_Angeles:20210914T150000
DTSTAMP:20260422T213425
CREATED:20210830T221224Z
LAST-MODIFIED:20210910T191024Z
UID:14827-1631624400-1631631600@waterwrights.net
SUMMARY:El Rico GSA - 1 pm Cancelled
DESCRIPTION:El Rico GSA – Board 1 pm – (559) 992-4127 Cancelled
URL:https://waterwrights.net/event/el-rico-gsa-1-pm-4/
END:VEVENT
BEGIN:VEVENT
DTSTART;TZID=America/Los_Angeles:20210914T133000
DTEND;TZID=America/Los_Angeles:20210914T153000
DTSTAMP:20260422T213425
CREATED:20210830T222215Z
LAST-MODIFIED:20210830T222215Z
UID:14839-1631626200-1631633400@waterwrights.net
SUMMARY:Kings River Conservation District - 1:30 pm
DESCRIPTION:Kings River Conservation District – Board 1:30 pm – www.krcd.org
URL:https://waterwrights.net/event/kings-river-conservation-district-130-pm-3/
END:VEVENT
BEGIN:VEVENT
DTSTART;TZID=America/Los_Angeles:20210914T150000
DTEND;TZID=America/Los_Angeles:20210914T170000
DTSTAMP:20260422T213425
CREATED:20210830T220239Z
LAST-MODIFIED:20210830T220239Z
UID:14817-1631631600-1631638800@waterwrights.net
SUMMARY:Mid Kaweah GSA - 3 pm
DESCRIPTION:Mid Kaweah GSA – Board 3 pm – www.midkaweah.org
URL:https://waterwrights.net/event/mid-kaweah-gsa-3-pm-3/
END:VEVENT
BEGIN:VEVENT
DTSTART;TZID=America/Los_Angeles:20210914T150000
DTEND;TZID=America/Los_Angeles:20210914T160000
DTSTAMP:20260422T213425
CREATED:20210905T185625Z
LAST-MODIFIED:20210905T185625Z
UID:14881-1631631600-1631635200@waterwrights.net
SUMMARY:Kern Water Bank 3pm
DESCRIPTION:KWB 3pm\, Bakersfield 661/398-4000 https://www.kwb.org/
URL:https://waterwrights.net/event/kern-water-bank-3pm-12/
END:VEVENT
BEGIN:VEVENT
DTSTART;TZID=America/Los_Angeles:20210914T150000
DTEND;TZID=America/Los_Angeles:20210914T170000
DTSTAMP:20260422T213425
CREATED:20210908T170439Z
LAST-MODIFIED:20210908T170439Z
UID:14891-1631631600-1631638800@waterwrights.net
SUMMARY:Kern Water Bank Authority - 3 pm
DESCRIPTION:Kern Water Bank Authority – Board 3 pm – https://www.kwb.org/
URL:https://waterwrights.net/event/kern-water-bank-authority-3-pm-2/
END:VEVENT
END:VCALENDAR