BEGIN:VCALENDAR
VERSION:2.0
PRODID:-//Water Wrights - ECPv5.16.4//NONSGML v1.0//EN
CALSCALE:GREGORIAN
METHOD:PUBLISH
X-WR-CALNAME:Water Wrights
X-ORIGINAL-URL:https://waterwrights.net
X-WR-CALDESC:Events for Water Wrights
BEGIN:VTIMEZONE
TZID:America/Los_Angeles
BEGIN:DAYLIGHT
TZOFFSETFROM:-0800
TZOFFSETTO:-0700
TZNAME:PDT
DTSTART:20210314T100000
END:DAYLIGHT
BEGIN:STANDARD
TZOFFSETFROM:-0700
TZOFFSETTO:-0800
TZNAME:PST
DTSTART:20211107T090000
END:STANDARD
END:VTIMEZONE
BEGIN:VEVENT
DTSTART;TZID=America/Los_Angeles:20210915T093000
DTEND;TZID=America/Los_Angeles:20210915T113000
DTSTAMP:20260422T213329
CREATED:20210830T223057Z
LAST-MODIFIED:20210830T223057Z
UID:14846-1631698200-1631705400@waterwrights.net
SUMMARY:California Water Commission - 9:30 am
DESCRIPTION:California Water Commission – Board 9:30 am – https://cwc.ca.gov/
URL:https://waterwrights.net/event/california-water-commission-930-am-4/
END:VEVENT
BEGIN:VEVENT
DTSTART;TZID=America/Los_Angeles:20210915T123000
DTEND;TZID=America/Los_Angeles:20210915T130000
DTSTAMP:20260422T213329
CREATED:20210829T210813Z
LAST-MODIFIED:20210915T212947Z
UID:14785-1631709000-1631710800@waterwrights.net
SUMMARY:Buena Vista WSD - 12:30 pm
DESCRIPTION:Buena Vista WSD – Board 12:30 pm – http://bvh2o.com/ \nIn person: 525 North Main Street\, Buttonwillow\, California 93206 \nRead the Report: https://waterwrights.net/2021/09/15/buena-vista-water-storage-district-september-15-2021/
URL:https://waterwrights.net/event/buena-vista-wsd-830-am-3/
END:VEVENT
END:VCALENDAR