BEGIN:VCALENDAR
VERSION:2.0
PRODID:-//Water Wrights - ECPv5.16.4//NONSGML v1.0//EN
CALSCALE:GREGORIAN
METHOD:PUBLISH
X-WR-CALNAME:Water Wrights
X-ORIGINAL-URL:https://waterwrights.net
X-WR-CALDESC:Events for Water Wrights
BEGIN:VTIMEZONE
TZID:America/Los_Angeles
BEGIN:DAYLIGHT
TZOFFSETFROM:-0800
TZOFFSETTO:-0700
TZNAME:PDT
DTSTART:20210314T100000
END:DAYLIGHT
BEGIN:STANDARD
TZOFFSETFROM:-0700
TZOFFSETTO:-0800
TZNAME:PST
DTSTART:20211107T090000
END:STANDARD
END:VTIMEZONE
BEGIN:VEVENT
DTSTART;TZID=America/Los_Angeles:20211006T090000
DTEND;TZID=America/Los_Angeles:20211006T110000
DTSTAMP:20260422T194856
CREATED:20210930T231502Z
LAST-MODIFIED:20211011T170310Z
UID:15059-1633510800-1633518000@waterwrights.net
SUMMARY:Tehama Colusa Canal Authority - 9 am
DESCRIPTION:Tehama Colusa Canal Authority – Board 9 am – http://tccanal.com/ \nRead the Report: https://waterwrights.net/2021/10/06/tehama-colusa-canal-authority-october-6-2021/
URL:https://waterwrights.net/event/tehama-colusa-canal-authority-9-am-4/
END:VEVENT
BEGIN:VEVENT
DTSTART;TZID=America/Los_Angeles:20211006T133000
DTEND;TZID=America/Los_Angeles:20211006T153000
DTSTAMP:20260422T194856
CREATED:20210930T223042Z
LAST-MODIFIED:20210930T223210Z
UID:15019-1633527000-1633534200@waterwrights.net
SUMMARY:South Delta WA - 1:30 pm
DESCRIPTION:South Delta WA – Board 1:30 pm – https://southdeltawater.org/ \n\nIn Person: Roberts Union Farm Center\, 4925 W. Howard Rd Stockton\, CA
URL:https://waterwrights.net/event/south-delta-wa-930-am/
END:VEVENT
BEGIN:VEVENT
DTSTART;TZID=America/Los_Angeles:20211006T140000
DTEND;TZID=America/Los_Angeles:20211006T160000
DTSTAMP:20260422T194856
CREATED:20210930T225348Z
LAST-MODIFIED:20210930T225348Z
UID:15037-1633528800-1633536000@waterwrights.net
SUMMARY:McMullin Area GSA - 2 pm
DESCRIPTION:McMullin Area GSA – Board 2 pm – https://www.mcmullinarea.org/
URL:https://waterwrights.net/event/mcmullin-area-gsa-2-pm-3/
END:VEVENT
END:VCALENDAR