BEGIN:VCALENDAR
VERSION:2.0
PRODID:-//Water Wrights - ECPv5.16.4//NONSGML v1.0//EN
CALSCALE:GREGORIAN
METHOD:PUBLISH
X-WR-CALNAME:Water Wrights
X-ORIGINAL-URL:https://waterwrights.net
X-WR-CALDESC:Events for Water Wrights
BEGIN:VTIMEZONE
TZID:America/Los_Angeles
BEGIN:DAYLIGHT
TZOFFSETFROM:-0800
TZOFFSETTO:-0700
TZNAME:PDT
DTSTART:20210314T100000
END:DAYLIGHT
BEGIN:STANDARD
TZOFFSETFROM:-0700
TZOFFSETTO:-0800
TZNAME:PST
DTSTART:20211107T090000
END:STANDARD
END:VTIMEZONE
BEGIN:VEVENT
DTSTART;TZID=America/Los_Angeles:20211007T093000
DTEND;TZID=America/Los_Angeles:20211007T113000
DTSTAMP:20260422T194738
CREATED:20210930T230906Z
LAST-MODIFIED:20210930T230906Z
UID:15055-1633599000-1633606200@waterwrights.net
SUMMARY:San Luis Delta Mendota WA - 9:30 am
DESCRIPTION:San Luis Delta Mendota WA – Board 9:30 am – https://sldmwa.org/
URL:https://waterwrights.net/event/san-luis-delta-mendota-wa-930-am-5/
END:VEVENT
BEGIN:VEVENT
DTSTART;TZID=America/Los_Angeles:20211007T100000
DTEND;TZID=America/Los_Angeles:20211007T120000
DTSTAMP:20260422T194738
CREATED:20210930T225959Z
LAST-MODIFIED:20210930T225959Z
UID:15045-1633600800-1633608000@waterwrights.net
SUMMARY:Kern River GSA - Cancelled
DESCRIPTION:
URL:https://waterwrights.net/event/kern-river-gsa-cancelled/
END:VEVENT
BEGIN:VEVENT
DTSTART;TZID=America/Los_Angeles:20211007T120000
DTEND;TZID=America/Los_Angeles:20211007T150000
DTSTAMP:20260422T194738
CREATED:20210930T232857Z
LAST-MODIFIED:20210930T232857Z
UID:15077-1633608000-1633618800@waterwrights.net
SUMMARY:Glenn-Colusa ID - 12 pm
DESCRIPTION:Glenn-Colusa ID – Board 12 pm – https://www.gcid.net/
URL:https://waterwrights.net/event/glenn-colusa-id-12-pm/
END:VEVENT
END:VCALENDAR