BEGIN:VCALENDAR
VERSION:2.0
PRODID:-//Water Wrights - ECPv5.16.4//NONSGML v1.0//EN
CALSCALE:GREGORIAN
METHOD:PUBLISH
X-WR-CALNAME:Water Wrights
X-ORIGINAL-URL:https://waterwrights.net
X-WR-CALDESC:Events for Water Wrights
BEGIN:VTIMEZONE
TZID:America/Los_Angeles
BEGIN:DAYLIGHT
TZOFFSETFROM:-0800
TZOFFSETTO:-0700
TZNAME:PDT
DTSTART:20210314T100000
END:DAYLIGHT
BEGIN:STANDARD
TZOFFSETFROM:-0700
TZOFFSETTO:-0800
TZNAME:PST
DTSTART:20211107T090000
END:STANDARD
END:VTIMEZONE
BEGIN:VEVENT
DTSTART;VALUE=DATE:20211011
DTEND;VALUE=DATE:20211012
DTSTAMP:20260422T200008
CREATED:20210823T213624Z
LAST-MODIFIED:20210823T213624Z
UID:14713-1633910400-1633996799@waterwrights.net
SUMMARY:Kings Farm Bureau Golf Tournament
DESCRIPTION:
URL:https://waterwrights.net/event/kings-farm-bureau-golf-tournament/
END:VEVENT
BEGIN:VEVENT
DTSTART;TZID=America/Los_Angeles:20211011T113000
DTEND;TZID=America/Los_Angeles:20211011T143000
DTSTAMP:20260422T200008
CREATED:20210930T224908Z
LAST-MODIFIED:20211011T165659Z
UID:15033-1633951800-1633962600@waterwrights.net
SUMMARY:Greater Kaweah GSA - 11:30 am
DESCRIPTION:Greater Kaweah GSA – Board 11:30am – www.greaterkaweahgsa.org
URL:https://waterwrights.net/event/greater-kaweah-gsa-1-pm-5/
END:VEVENT
END:VCALENDAR