BEGIN:VCALENDAR
VERSION:2.0
PRODID:-//Water Wrights - ECPv5.16.4//NONSGML v1.0//EN
CALSCALE:GREGORIAN
METHOD:PUBLISH
X-WR-CALNAME:Water Wrights
X-ORIGINAL-URL:https://waterwrights.net
X-WR-CALDESC:Events for Water Wrights
BEGIN:VTIMEZONE
TZID:America/Los_Angeles
BEGIN:DAYLIGHT
TZOFFSETFROM:-0800
TZOFFSETTO:-0700
TZNAME:PDT
DTSTART:20210314T100000
END:DAYLIGHT
BEGIN:STANDARD
TZOFFSETFROM:-0700
TZOFFSETTO:-0800
TZNAME:PST
DTSTART:20211107T090000
END:STANDARD
END:VTIMEZONE
BEGIN:VEVENT
DTSTART;TZID=America/Los_Angeles:20211014T100000
DTEND;TZID=America/Los_Angeles:20211014T120000
DTSTAMP:20260422T211805
CREATED:20210930T212009Z
LAST-MODIFIED:20211012T161517Z
UID:14972-1634205600-1634212800@waterwrights.net
SUMMARY:Triangle T WD - 10 am
DESCRIPTION:Triangle T WD – Board 10 am – www.triangletwaterdistrict.org \nZoom: https://us02web.zoom.us/j/87254449162?pwd=SFdTd0phTkJVRWx0SnE5YzZwTWRVZz09 \nPasscode: 701742 \nPhone in: 1 (669) 900-6833
URL:https://waterwrights.net/event/triangle-t-wd-10-am-4/
END:VEVENT
BEGIN:VEVENT
DTSTART;TZID=America/Los_Angeles:20211014T100000
DTEND;TZID=America/Los_Angeles:20211014T120000
DTSTAMP:20260422T211805
CREATED:20210930T232414Z
LAST-MODIFIED:20210930T232414Z
UID:15071-1634205600-1634212800@waterwrights.net
SUMMARY:Butte WD - 10 am
DESCRIPTION:Butte WD – Board 10 am – https://buttewaterdistrict.org/
URL:https://waterwrights.net/event/butte-wd-10-am/
END:VEVENT
BEGIN:VEVENT
DTSTART;TZID=America/Los_Angeles:20211014T143000
DTEND;TZID=America/Los_Angeles:20211014T163000
DTSTAMP:20260422T211805
CREATED:20210930T215245Z
LAST-MODIFIED:20210930T215335Z
UID:14996-1634221800-1634229000@waterwrights.net
SUMMARY:Kern Tulare WD - 2:30 pm
DESCRIPTION:Kern Tulare WD – Board 2:30 pm – https://kern-tulare.com/ \nIn person: 33150 Pond Road\, Delano\, CA 93215
URL:https://waterwrights.net/event/kern-tulare-wd-230-pm-5/
END:VEVENT
BEGIN:VEVENT
DTSTART;TZID=America/Los_Angeles:20211014T150000
DTEND;TZID=America/Los_Angeles:20211014T170000
DTSTAMP:20260422T211805
CREATED:20210930T213020Z
LAST-MODIFIED:20210930T214422Z
UID:14978-1634223600-1634230800@waterwrights.net
SUMMARY:Fresno ID - 3 pm
DESCRIPTION:Fresno ID – Board 3 pm – www.fresnoirrigation.com
URL:https://waterwrights.net/event/fresno-id-3-pm-5/
END:VEVENT
BEGIN:VEVENT
DTSTART;TZID=America/Los_Angeles:20211014T160000
DTEND;TZID=America/Los_Angeles:20211014T180000
DTSTAMP:20260422T211805
CREATED:20210930T215036Z
LAST-MODIFIED:20210930T215036Z
UID:14994-1634227200-1634234400@waterwrights.net
SUMMARY:Delano Earlimart ID - 4 pm
DESCRIPTION:Delano Earlimart ID – Board 4 pm – https://www.deid.org/
URL:https://waterwrights.net/event/delano-earlimart-id-4-pm-4/
END:VEVENT
END:VCALENDAR