BEGIN:VCALENDAR
VERSION:2.0
PRODID:-//Water Wrights - ECPv5.16.4//NONSGML v1.0//EN
CALSCALE:GREGORIAN
METHOD:PUBLISH
X-WR-CALNAME:Water Wrights
X-ORIGINAL-URL:https://waterwrights.net
X-WR-CALDESC:Events for Water Wrights
BEGIN:VTIMEZONE
TZID:America/Los_Angeles
BEGIN:DAYLIGHT
TZOFFSETFROM:-0800
TZOFFSETTO:-0700
TZNAME:PDT
DTSTART:20210314T100000
END:DAYLIGHT
BEGIN:STANDARD
TZOFFSETFROM:-0700
TZOFFSETTO:-0800
TZNAME:PST
DTSTART:20211107T090000
END:STANDARD
END:VTIMEZONE
BEGIN:VEVENT
DTSTART;TZID=America/Los_Angeles:20211019T090000
DTEND;TZID=America/Los_Angeles:20211019T110000
DTSTAMP:20260422T195922
CREATED:20210930T231835Z
LAST-MODIFIED:20210930T231835Z
UID:15063-1634634000-1634641200@waterwrights.net
SUMMARY:State Board - 9 am
DESCRIPTION:State Board – Board 9 am – https://www.waterboards.ca.gov/
URL:https://waterwrights.net/event/state-board-9-am-10/
END:VEVENT
BEGIN:VEVENT
DTSTART;TZID=America/Los_Angeles:20211019T090000
DTEND;TZID=America/Los_Angeles:20211019T110000
DTSTAMP:20260422T195922
CREATED:20210930T232704Z
LAST-MODIFIED:20210930T232704Z
UID:15075-1634634000-1634641200@waterwrights.net
SUMMARY:Yuba County WA - 9 am
DESCRIPTION:Yuba County WA – Board 9 am – https://www.yubawater.org/
URL:https://waterwrights.net/event/yuba-county-wa-9-am-8/
END:VEVENT
BEGIN:VEVENT
DTSTART;TZID=America/Los_Angeles:20211019T090000
DTEND;TZID=America/Los_Angeles:20211019T110000
DTSTAMP:20260422T195922
CREATED:20210930T233341Z
LAST-MODIFIED:20210930T233341Z
UID:15083-1634634000-1634641200@waterwrights.net
SUMMARY:Western Canal WD - 9 am
DESCRIPTION:Western Canal WD – Board 9 am – http://westerncanal.com/
URL:https://waterwrights.net/event/western-canal-wd-9-am-5/
END:VEVENT
BEGIN:VEVENT
DTSTART;TZID=America/Los_Angeles:20211019T130000
DTEND;TZID=America/Los_Angeles:20211019T150000
DTSTAMP:20260422T195922
CREATED:20210930T212826Z
LAST-MODIFIED:20210930T212826Z
UID:14976-1634648400-1634655600@waterwrights.net
SUMMARY:Westlands WD - 1 pm
DESCRIPTION:Westlands WD – Board 1 pm – https://wwd.ca.gov/
URL:https://waterwrights.net/event/westlands-wd-1-pm-3/
END:VEVENT
BEGIN:VEVENT
DTSTART;TZID=America/Los_Angeles:20211019T130000
DTEND;TZID=America/Los_Angeles:20211019T150000
DTSTAMP:20260422T195922
CREATED:20210930T224710Z
LAST-MODIFIED:20210930T224719Z
UID:15030-1634648400-1634655600@waterwrights.net
SUMMARY:Westlands WD GSA - 1 pm
DESCRIPTION:Westlands WD GSA – Board 1 pm – https://wwd.ca.gov/
URL:https://waterwrights.net/event/westlands-ws-gsa-1-pm/
END:VEVENT
BEGIN:VEVENT
DTSTART;TZID=America/Los_Angeles:20211019T140000
DTEND;TZID=America/Los_Angeles:20211019T160000
DTSTAMP:20260422T195922
CREATED:20210930T212409Z
LAST-MODIFIED:20211021T153853Z
UID:14974-1634652000-1634659200@waterwrights.net
SUMMARY:Madera ID - 2 pm
DESCRIPTION:Madera ID – Board 2 pm – https://www.madera-id.org/\ \nRead the Report: https://waterwrights.net/2021/10/20/madera-irrigation-and-gsa-board-meetings-october-19-2021/
URL:https://waterwrights.net/event/madera-id-2-pm-5/
END:VEVENT
END:VCALENDAR