BEGIN:VCALENDAR
VERSION:2.0
PRODID:-//Water Wrights - ECPv5.16.4//NONSGML v1.0//EN
CALSCALE:GREGORIAN
METHOD:PUBLISH
X-WR-CALNAME:Water Wrights
X-ORIGINAL-URL:https://waterwrights.net
X-WR-CALDESC:Events for Water Wrights
BEGIN:VTIMEZONE
TZID:America/Los_Angeles
BEGIN:DAYLIGHT
TZOFFSETFROM:-0800
TZOFFSETTO:-0700
TZNAME:PDT
DTSTART:20210314T100000
END:DAYLIGHT
BEGIN:STANDARD
TZOFFSETFROM:-0700
TZOFFSETTO:-0800
TZNAME:PST
DTSTART:20211107T090000
END:STANDARD
END:VTIMEZONE
BEGIN:VEVENT
DTSTART;TZID=America/Los_Angeles:20211020T090000
DTEND;TZID=America/Los_Angeles:20211020T120000
DTSTAMP:20260422T195915
CREATED:20211019T152023Z
LAST-MODIFIED:20211019T152023Z
UID:15166-1634720400-1634731200@waterwrights.net
SUMMARY:Kaweah Subbasin Management Team 9am
DESCRIPTION:Kaweah Subbasin Management Team Committee 9am \nhttps://us02web.zoom.us/j/82964428419?pwd=cFlBdkZxRmxrUS9OemloaE91bEE2Zz09\nMeeting ID: 829 6442 8419\nPasscode: 213455
URL:https://waterwrights.net/event/kaweah-subbasin-management-team-9am/
END:VEVENT
BEGIN:VEVENT
DTSTART;TZID=America/Los_Angeles:20211020T093000
DTEND;TZID=America/Los_Angeles:20211020T113000
DTSTAMP:20260422T195915
CREATED:20210930T232250Z
LAST-MODIFIED:20210930T232250Z
UID:15069-1634722200-1634729400@waterwrights.net
SUMMARY:California Water Commission - 9:30 am
DESCRIPTION:California Water Commission – 9:30 am – https://cwc.ca.gov/
URL:https://waterwrights.net/event/california-water-commission-930-am-5/
END:VEVENT
BEGIN:VEVENT
DTSTART;TZID=America/Los_Angeles:20211020T123000
DTEND;TZID=America/Los_Angeles:20211020T143000
DTSTAMP:20260422T195915
CREATED:20210930T215902Z
LAST-MODIFIED:20211019T152233Z
UID:15001-1634733000-1634740200@waterwrights.net
SUMMARY:Buena Vista WSD - 12:30 pm
DESCRIPTION:Buena Vista WSD – Board 12:30 pm – http://bvh2o.com/ \nOnline: https://zoom.us/j/86961093794 \nPassword: 5251101 \nCall in: 669-900-6833
URL:https://waterwrights.net/event/buena-vista-wsd-830-am-4/
END:VEVENT
END:VCALENDAR