BEGIN:VCALENDAR
VERSION:2.0
PRODID:-//Water Wrights - ECPv5.16.4//NONSGML v1.0//EN
CALSCALE:GREGORIAN
METHOD:PUBLISH
X-WR-CALNAME:Water Wrights
X-ORIGINAL-URL:https://waterwrights.net
X-WR-CALDESC:Events for Water Wrights
BEGIN:VTIMEZONE
TZID:America/Los_Angeles
BEGIN:DAYLIGHT
TZOFFSETFROM:-0800
TZOFFSETTO:-0700
TZNAME:PDT
DTSTART:20210314T100000
END:DAYLIGHT
BEGIN:STANDARD
TZOFFSETFROM:-0700
TZOFFSETTO:-0800
TZNAME:PST
DTSTART:20211107T090000
END:STANDARD
END:VTIMEZONE
BEGIN:VEVENT
DTSTART;TZID=America/Los_Angeles:20211102T090000
DTEND;TZID=America/Los_Angeles:20211102T100000
DTSTAMP:20260422T200125
CREATED:20211028T214255Z
LAST-MODIFIED:20211104T152004Z
UID:15217-1635843600-1635847200@waterwrights.net
SUMMARY:Kaweah Delta WCD - 9 am
DESCRIPTION:Kaweah Delta WCD – Board 9 am – http://www.kdwcd.com/ \nRead the report: https://waterwrights.net/2021/11/02/kaweah-delta-water-conservation-district-november-2-2021/
URL:https://waterwrights.net/event/kaweah-delta-wcd-9-am-6/
END:VEVENT
BEGIN:VEVENT
DTSTART;TZID=America/Los_Angeles:20211102T090000
DTEND;TZID=America/Los_Angeles:20211102T110000
DTSTAMP:20260422T200125
CREATED:20211028T230132Z
LAST-MODIFIED:20211028T230132Z
UID:15289-1635843600-1635850800@waterwrights.net
SUMMARY:State Board - 9 am
DESCRIPTION:State Board – Board 9 am – https://www.waterboards.ca.gov/
URL:https://waterwrights.net/event/state-board-9-am-11/
END:VEVENT
BEGIN:VEVENT
DTSTART;TZID=America/Los_Angeles:20211102T090000
DTEND;TZID=America/Los_Angeles:20211102T110000
DTSTAMP:20260422T200125
CREATED:20211028T230802Z
LAST-MODIFIED:20211028T230802Z
UID:15297-1635843600-1635850800@waterwrights.net
SUMMARY:Yuba County WA - 9 am
DESCRIPTION:Yuba County WA – Board 9 am – https://www.yubawater.org/
URL:https://waterwrights.net/event/yuba-county-wa-9-am-9/
END:VEVENT
END:VCALENDAR