BEGIN:VCALENDAR
VERSION:2.0
PRODID:-//Water Wrights - ECPv5.16.4//NONSGML v1.0//EN
CALSCALE:GREGORIAN
METHOD:PUBLISH
X-WR-CALNAME:Water Wrights
X-ORIGINAL-URL:https://waterwrights.net
X-WR-CALDESC:Events for Water Wrights
BEGIN:VTIMEZONE
TZID:America/Los_Angeles
BEGIN:DAYLIGHT
TZOFFSETFROM:-0800
TZOFFSETTO:-0700
TZNAME:PDT
DTSTART:20210314T100000
END:DAYLIGHT
BEGIN:STANDARD
TZOFFSETFROM:-0700
TZOFFSETTO:-0800
TZNAME:PST
DTSTART:20211107T090000
END:STANDARD
END:VTIMEZONE
BEGIN:VEVENT
DTSTART;VALUE=DATE:20211130
DTEND;VALUE=DATE:20211203
DTSTAMP:20260422T200121
CREATED:20211109T153942Z
LAST-MODIFIED:20211109T153942Z
UID:15363-1638230400-1638489599@waterwrights.net
SUMMARY:ACWA Conference
DESCRIPTION:Association of California Water Agencies fall conference in Pasadena and online \nhttps://www.acwa.com/events/2021-fall-conference-exhibition/  
URL:https://waterwrights.net/event/acwa-conference/
END:VEVENT
BEGIN:VEVENT
DTSTART;TZID=America/Los_Angeles:20211202T090000
DTEND;TZID=America/Los_Angeles:20211202T113000
DTSTAMP:20260422T200121
CREATED:20211125T213923Z
LAST-MODIFIED:20211129T151453Z
UID:15536-1638435600-1638444600@waterwrights.net
SUMMARY:Glenn-Colusa ID - 9am
DESCRIPTION:Glenn-Colusa ID – 12 pm – https://www.gcid.net/
URL:https://waterwrights.net/event/glenn-colusa-id-12-pm-5/
END:VEVENT
BEGIN:VEVENT
DTSTART;TZID=America/Los_Angeles:20211202T093000
DTEND;TZID=America/Los_Angeles:20211202T113000
DTSTAMP:20260422T200121
CREATED:20211125T212558Z
LAST-MODIFIED:20211125T212558Z
UID:15512-1638437400-1638444600@waterwrights.net
SUMMARY:San Luis Delta Mendota WA - 9:30 am
DESCRIPTION:San Luis Delta Mendota WA – Board 9:30 am – https://sldmwa.org/
URL:https://waterwrights.net/event/san-luis-delta-mendota-wa-930-am-7/
END:VEVENT
BEGIN:VEVENT
DTSTART;TZID=America/Los_Angeles:20211202T100000
DTEND;TZID=America/Los_Angeles:20211202T120000
DTSTAMP:20260422T200121
CREATED:20211125T211608Z
LAST-MODIFIED:20211125T211608Z
UID:15504-1638439200-1638446400@waterwrights.net
SUMMARY:Kern River GSA - 10 am - Cancelled
DESCRIPTION:Kern River GSA – Board 10 am – www.kernrivergsa.org
URL:https://waterwrights.net/event/kern-river-gsa-10-am-cancelled/
END:VEVENT
BEGIN:VEVENT
DTSTART;TZID=America/Los_Angeles:20211202T140000
DTEND;TZID=America/Los_Angeles:20211202T160000
DTSTAMP:20260422T200121
CREATED:20211125T211745Z
LAST-MODIFIED:20211125T211745Z
UID:15508-1638453600-1638460800@waterwrights.net
SUMMARY:Eastern Tule River GSA - 2 pm
DESCRIPTION:Eastern Tule River GSA – Board 2 pm – www.easterntulegsa.com
URL:https://waterwrights.net/event/eastern-tule-river-gsa-2-pm-6/
END:VEVENT
END:VCALENDAR