BEGIN:VCALENDAR
VERSION:2.0
PRODID:-//Water Wrights - ECPv5.16.4//NONSGML v1.0//EN
CALSCALE:GREGORIAN
METHOD:PUBLISH
X-WR-CALNAME:Water Wrights
X-ORIGINAL-URL:https://waterwrights.net
X-WR-CALDESC:Events for Water Wrights
BEGIN:VTIMEZONE
TZID:America/Los_Angeles
BEGIN:DAYLIGHT
TZOFFSETFROM:-0800
TZOFFSETTO:-0700
TZNAME:PDT
DTSTART:20210314T100000
END:DAYLIGHT
BEGIN:STANDARD
TZOFFSETFROM:-0700
TZOFFSETTO:-0800
TZNAME:PST
DTSTART:20211107T090000
END:STANDARD
END:VTIMEZONE
BEGIN:VEVENT
DTSTART;TZID=America/Los_Angeles:20211208T080000
DTEND;TZID=America/Los_Angeles:20211208T100000
DTSTAMP:20260422T163957
CREATED:20211125T204826Z
LAST-MODIFIED:20211125T204826Z
UID:15466-1638950400-1638957600@waterwrights.net
SUMMARY:Wheeler Ridge Maricopa WSD - 8 am
DESCRIPTION:Wheeler Ridge Maricopa WSD – Board 8 am – https://wrmwsd.com/
URL:https://waterwrights.net/event/wheeler-ridge-maricopa-wsd-8-am-3/
END:VEVENT
BEGIN:VEVENT
DTSTART;TZID=America/Los_Angeles:20211208T080000
DTEND;TZID=America/Los_Angeles:20211208T170000
DTSTAMP:20260422T163957
CREATED:20211208T153611Z
LAST-MODIFIED:20211208T153611Z
UID:15557-1638950400-1638982800@waterwrights.net
SUMMARY:Eastern Tule GSA Stakeholder 2pm Cancelled
DESCRIPTION:ETGSA Stakeholder Committee 2pm cancelled
URL:https://waterwrights.net/event/eastern-tule-gsa-stakeholder-2pm-cancelled/
END:VEVENT
BEGIN:VEVENT
DTSTART;TZID=America/Los_Angeles:20211208T090000
DTEND;TZID=America/Los_Angeles:20211208T110000
DTSTAMP:20260422T163957
CREATED:20211125T213220Z
LAST-MODIFIED:20211125T213220Z
UID:15523-1638954000-1638961200@waterwrights.net
SUMMARY:State Board - 9 am
DESCRIPTION:State Board – Board 9 am – https://www.waterboards.ca.gov/
URL:https://waterwrights.net/event/state-board-9-am-14/
END:VEVENT
BEGIN:VEVENT
DTSTART;TZID=America/Los_Angeles:20211208T123000
DTEND;TZID=America/Los_Angeles:20211208T143000
DTSTAMP:20260422T163957
CREATED:20211125T204331Z
LAST-MODIFIED:20211125T204331Z
UID:15462-1638966600-1638973800@waterwrights.net
SUMMARY:Semitropic WD - 12:30 pm
DESCRIPTION:Semitropic WD – Board 12:30 pm – http://semitropic.com/
URL:https://waterwrights.net/event/semitropic-wd-1230-pm-7/
END:VEVENT
BEGIN:VEVENT
DTSTART;TZID=America/Los_Angeles:20211208T130000
DTEND;TZID=America/Los_Angeles:20211208T150000
DTSTAMP:20260422T163957
CREATED:20211125T203338Z
LAST-MODIFIED:20211125T203338Z
UID:15447-1638968400-1638975600@waterwrights.net
SUMMARY:Consolidated ID - 1 pm
DESCRIPTION:Consolidated ID – Board 1 pm – https://cidwater.com/
URL:https://waterwrights.net/event/consolidated-id-1-pm-7/
END:VEVENT
END:VCALENDAR