BEGIN:VCALENDAR
VERSION:2.0
PRODID:-//Water Wrights - ECPv5.16.4//NONSGML v1.0//EN
CALSCALE:GREGORIAN
METHOD:PUBLISH
X-WR-CALNAME:Water Wrights
X-ORIGINAL-URL:https://waterwrights.net
X-WR-CALDESC:Events for Water Wrights
BEGIN:VTIMEZONE
TZID:America/Los_Angeles
BEGIN:DAYLIGHT
TZOFFSETFROM:-0800
TZOFFSETTO:-0700
TZNAME:PDT
DTSTART:20210314T100000
END:DAYLIGHT
BEGIN:STANDARD
TZOFFSETFROM:-0700
TZOFFSETTO:-0800
TZNAME:PST
DTSTART:20211107T090000
END:STANDARD
END:VTIMEZONE
BEGIN:VEVENT
DTSTART;TZID=America/Los_Angeles:20211214T080000
DTEND;TZID=America/Los_Angeles:20211214T100000
DTSTAMP:20260422T164022
CREATED:20211125T204923Z
LAST-MODIFIED:20211125T204923Z
UID:15468-1639468800-1639476000@waterwrights.net
SUMMARY:Rosedale Rio Bravo WSD - 8 am
DESCRIPTION:Rosedale Rio Bravo WSD – Board 8 am – https://www.rrbwsd.com/
URL:https://waterwrights.net/event/rosedale-rio-bravo-wsd-8-am-6/
END:VEVENT
BEGIN:VEVENT
DTSTART;TZID=America/Los_Angeles:20211214T090000
DTEND;TZID=America/Los_Angeles:20211214T110000
DTSTAMP:20260422T164022
CREATED:20211125T203602Z
LAST-MODIFIED:20211125T203602Z
UID:15449-1639472400-1639479600@waterwrights.net
SUMMARY:Corcoran ID - 9 am
DESCRIPTION:Corcoran ID – Board 9 am – (559) 992-5165
URL:https://waterwrights.net/event/corcoran-id-9-am-7/
END:VEVENT
BEGIN:VEVENT
DTSTART;TZID=America/Los_Angeles:20211214T090000
DTEND;TZID=America/Los_Angeles:20211214T110000
DTSTAMP:20260422T164022
CREATED:20211125T203849Z
LAST-MODIFIED:20211125T203849Z
UID:15453-1639472400-1639479600@waterwrights.net
SUMMARY:Tulare ID - 9 am
DESCRIPTION:Tulare ID – Board 9 am – https://tulareid.org/
URL:https://waterwrights.net/event/tulare-id-9-am-7/
END:VEVENT
BEGIN:VEVENT
DTSTART;TZID=America/Los_Angeles:20211214T090000
DTEND;TZID=America/Los_Angeles:20211214T110000
DTSTAMP:20260422T164022
CREATED:20211125T203947Z
LAST-MODIFIED:20211125T203947Z
UID:15456-1639472400-1639479600@waterwrights.net
SUMMARY:Lower Tule River ID - 9 am
DESCRIPTION:Lower Tule River ID – Board 9 am – http://www.ltrid.org/
URL:https://waterwrights.net/event/lower-tule-river-id-9-am-7/
END:VEVENT
BEGIN:VEVENT
DTSTART;TZID=America/Los_Angeles:20211214T090000
DTEND;TZID=America/Los_Angeles:20211214T110000
DTSTAMP:20260422T164022
CREATED:20211125T205655Z
LAST-MODIFIED:20211215T182133Z
UID:15476-1639472400-1639479600@waterwrights.net
SUMMARY:Turlock ID - 9 am
DESCRIPTION:Turlock ID – Board 9 am – https://www.tid.org/
URL:https://waterwrights.net/event/turlock-id-9-am-14/
END:VEVENT
BEGIN:VEVENT
DTSTART;TZID=America/Los_Angeles:20211214T090000
DTEND;TZID=America/Los_Angeles:20211214T110000
DTSTAMP:20260422T164022
CREATED:20211125T205822Z
LAST-MODIFIED:20211125T205822Z
UID:15480-1639472400-1639479600@waterwrights.net
SUMMARY:Modesto ID - 9 am
DESCRIPTION:Modesto ID – Board 9 am – https://www.mid.org/
URL:https://waterwrights.net/event/modesto-id-9-am-7/
END:VEVENT
BEGIN:VEVENT
DTSTART;TZID=America/Los_Angeles:20211214T093000
DTEND;TZID=America/Los_Angeles:20211214T113000
DTSTAMP:20260422T164022
CREATED:20211125T210056Z
LAST-MODIFIED:20211125T210056Z
UID:15484-1639474200-1639481400@waterwrights.net
SUMMARY:Central Delta WA - 9:30 am
DESCRIPTION:Central Delta WA – Board 9:30 am – (209) 465-5883
URL:https://waterwrights.net/event/central-delta-wa-930-am-6/
END:VEVENT
BEGIN:VEVENT
DTSTART;TZID=America/Los_Angeles:20211214T130000
DTEND;TZID=America/Los_Angeles:20211214T150000
DTSTAMP:20260422T164022
CREATED:20211125T211417Z
LAST-MODIFIED:20211125T211417Z
UID:15500-1639486800-1639494000@waterwrights.net
SUMMARY:Mid Kings River GSA - 1 pm
DESCRIPTION:Mid Kings River GSA – Board 1 pm – www.midkingsrivergsa.org
URL:https://waterwrights.net/event/mid-kings-river-gsa-1-pm-6/
END:VEVENT
BEGIN:VEVENT
DTSTART;TZID=America/Los_Angeles:20211214T130000
DTEND;TZID=America/Los_Angeles:20211214T150000
DTSTAMP:20260422T164022
CREATED:20211125T211659Z
LAST-MODIFIED:20211125T211659Z
UID:15506-1639486800-1639494000@waterwrights.net
SUMMARY:El Rico GSA - 1 pm
DESCRIPTION:El Rico GSA – Board 1 pm – (559) 992-4127
URL:https://waterwrights.net/event/el-rico-gsa-1-pm-7/
END:VEVENT
BEGIN:VEVENT
DTSTART;TZID=America/Los_Angeles:20211214T133000
DTEND;TZID=America/Los_Angeles:20211214T153000
DTSTAMP:20260422T164022
CREATED:20211125T212803Z
LAST-MODIFIED:20211125T212803Z
UID:15516-1639488600-1639495800@waterwrights.net
SUMMARY:Kings River CD - 1:30 pm
DESCRIPTION:Kings River CD – Board 1:30 pm – www.krcd.org
URL:https://waterwrights.net/event/kings-river-cd-130-pm-3/
END:VEVENT
BEGIN:VEVENT
DTSTART;TZID=America/Los_Angeles:20211214T150000
DTEND;TZID=America/Los_Angeles:20211214T160000
DTSTAMP:20260422T164022
CREATED:20211129T153505Z
LAST-MODIFIED:20211129T153505Z
UID:15545-1639494000-1639497600@waterwrights.net
SUMMARY:Kern Water Bank 3pm
DESCRIPTION:KWB 3pm https://www.kwb.org/
URL:https://waterwrights.net/event/kern-water-bank-3pm-13/
END:VEVENT
BEGIN:VEVENT
DTSTART;TZID=America/Los_Angeles:20211214T180000
DTEND;TZID=America/Los_Angeles:20211214T200000
DTSTAMP:20260422T164022
CREATED:20211125T211251Z
LAST-MODIFIED:20211125T211251Z
UID:15496-1639504800-1639512000@waterwrights.net
SUMMARY:Mid Kaweah GSA - 6 pm
DESCRIPTION:Mid Kaweah GSA – Board 6 pm – www.midkaweah.org
URL:https://waterwrights.net/event/mid-kaweah-gsa-6-pm/
END:VEVENT
END:VCALENDAR