BEGIN:VCALENDAR
VERSION:2.0
PRODID:-//Water Wrights - ECPv5.16.4//NONSGML v1.0//EN
CALSCALE:GREGORIAN
METHOD:PUBLISH
X-WR-CALNAME:Water Wrights
X-ORIGINAL-URL:https://waterwrights.net
X-WR-CALDESC:Events for Water Wrights
BEGIN:VTIMEZONE
TZID:America/Los_Angeles
BEGIN:DAYLIGHT
TZOFFSETFROM:-0800
TZOFFSETTO:-0700
TZNAME:PDT
DTSTART:20210314T100000
END:DAYLIGHT
BEGIN:STANDARD
TZOFFSETFROM:-0700
TZOFFSETTO:-0800
TZNAME:PST
DTSTART:20211107T090000
END:STANDARD
END:VTIMEZONE
BEGIN:VEVENT
DTSTART;TZID=America/Los_Angeles:20211216T090000
DTEND;TZID=America/Los_Angeles:20211216T110000
DTSTAMP:20260422T164021
CREATED:20211125T213959Z
LAST-MODIFIED:20211215T181457Z
UID:15538-1639645200-1639652400@waterwrights.net
SUMMARY:Glenn-Colusa ID - 9 am
DESCRIPTION:9Glenn-Colusa ID – Board 9 am – https://www.gcid.net/
URL:https://waterwrights.net/event/glenn-colusa-id-12-pm-6/
END:VEVENT
BEGIN:VEVENT
DTSTART;TZID=America/Los_Angeles:20211216T133000
DTEND;TZID=America/Los_Angeles:20211216T153000
DTSTAMP:20260422T164021
CREATED:20211125T214043Z
LAST-MODIFIED:20211125T214043Z
UID:15540-1639661400-1639668600@waterwrights.net
SUMMARY:Richvale ID - 1:30 pm
DESCRIPTION:Richvale ID – Board 1:30 pm – www.richvaleid.com
URL:https://waterwrights.net/event/richvale-id-130-pm-7/
END:VEVENT
BEGIN:VEVENT
DTSTART;TZID=America/Los_Angeles:20211216T140000
DTEND;TZID=America/Los_Angeles:20211216T170000
DTSTAMP:20260422T164021
CREATED:20211213T143855Z
LAST-MODIFIED:20211213T143855Z
UID:15572-1639663200-1639674000@waterwrights.net
SUMMARY:Eastern Tule GSA Exec Cmt Cancelled
DESCRIPTION:ETGSA Ex Cmt Cancelled
URL:https://waterwrights.net/event/eastern-tule-gsa-exec-cmt-cancelled/
END:VEVENT
BEGIN:VEVENT
DTSTART;TZID=America/Los_Angeles:20211216T180000
DTEND;TZID=America/Los_Angeles:20211216T200000
DTSTAMP:20260422T164021
CREATED:20211125T210412Z
LAST-MODIFIED:20211215T182410Z
UID:15488-1639677600-1639684800@waterwrights.net
SUMMARY:North Kings GSA - 6 pm - Cancelled
DESCRIPTION:North Kings GSA – Board 6 pm – www.northkingsgsa.org
URL:https://waterwrights.net/event/north-kings-gsa-6-pm-7/
END:VEVENT
END:VCALENDAR