BEGIN:VCALENDAR
VERSION:2.0
PRODID:-//Water Wrights - ECPv5.16.4//NONSGML v1.0//EN
CALSCALE:GREGORIAN
METHOD:PUBLISH
X-WR-CALNAME:Water Wrights
X-ORIGINAL-URL:https://waterwrights.net
X-WR-CALDESC:Events for Water Wrights
BEGIN:VTIMEZONE
TZID:America/Los_Angeles
BEGIN:DAYLIGHT
TZOFFSETFROM:-0800
TZOFFSETTO:-0700
TZNAME:PDT
DTSTART:20220313T100000
END:DAYLIGHT
BEGIN:STANDARD
TZOFFSETFROM:-0700
TZOFFSETTO:-0800
TZNAME:PST
DTSTART:20221106T090000
END:STANDARD
END:VTIMEZONE
BEGIN:VEVENT
DTSTART;TZID=America/Los_Angeles:20220106T100000
DTEND;TZID=America/Los_Angeles:20220106T120000
DTSTAMP:20260422T150912
CREATED:20220102T233553Z
LAST-MODIFIED:20220102T233553Z
UID:15657-1641463200-1641470400@waterwrights.net
SUMMARY:Triangle T WD - 10 am
DESCRIPTION:Triangle T WD – Board 10 am – triangletwaterdistrict.org
URL:https://waterwrights.net/event/triangle-t-wd-10-am-7/
END:VEVENT
BEGIN:VEVENT
DTSTART;TZID=America/Los_Angeles:20220106T100000
DTEND;TZID=America/Los_Angeles:20220106T120000
DTSTAMP:20260422T150912
CREATED:20220103T012858Z
LAST-MODIFIED:20220103T012858Z
UID:15709-1641463200-1641470400@waterwrights.net
SUMMARY:Kern River GSA - 10 am
DESCRIPTION:Kern River GSA – Board 10 am – kernrivergsa.org
URL:https://waterwrights.net/event/kern-river-gsa-10-am-5/
END:VEVENT
BEGIN:VEVENT
DTSTART;TZID=America/Los_Angeles:20220106T120000
DTEND;TZID=America/Los_Angeles:20220106T150000
DTSTAMP:20260422T150912
CREATED:20211230T134351Z
LAST-MODIFIED:20220103T022130Z
UID:15627-1641470400-1641481200@waterwrights.net
SUMMARY:Glenn Colusa ID 12pm
DESCRIPTION:GCID Board 344 E. Laurel Street\, Willows CA 95988 12:00pm https://www.gcid.net/
URL:https://waterwrights.net/event/glenn-colusa-id-9am-10/
END:VEVENT
BEGIN:VEVENT
DTSTART;TZID=America/Los_Angeles:20220106T130000
DTEND;TZID=America/Los_Angeles:20220106T133000
DTSTAMP:20260422T150912
CREATED:20220101T233201Z
LAST-MODIFIED:20220101T233201Z
UID:15641-1641474000-1641475800@waterwrights.net
SUMMARY:Tri County Water Assoc. Cancelled
DESCRIPTION:TCWA Board Cancelled
URL:https://waterwrights.net/event/tri-county-water-assoc-cancelled/
END:VEVENT
BEGIN:VEVENT
DTSTART;TZID=America/Los_Angeles:20220106T140000
DTEND;TZID=America/Los_Angeles:20220106T160000
DTSTAMP:20260422T150912
CREATED:20220103T013918Z
LAST-MODIFIED:20220103T013918Z
UID:15715-1641477600-1641484800@waterwrights.net
SUMMARY:Eastern Tule River GSA - 2 pm
DESCRIPTION:Eastern Tule River GSA – Board 2 pm – easterntulegsa.com
URL:https://waterwrights.net/event/eastern-tule-river-gsa-2-pm-7/
END:VEVENT
END:VCALENDAR