BEGIN:VCALENDAR
VERSION:2.0
PRODID:-//Water Wrights - ECPv5.16.4//NONSGML v1.0//EN
CALSCALE:GREGORIAN
METHOD:PUBLISH
X-WR-CALNAME:Water Wrights
X-ORIGINAL-URL:https://waterwrights.net
X-WR-CALDESC:Events for Water Wrights
BEGIN:VTIMEZONE
TZID:America/Los_Angeles
BEGIN:DAYLIGHT
TZOFFSETFROM:-0800
TZOFFSETTO:-0700
TZNAME:PDT
DTSTART:20220313T100000
END:DAYLIGHT
BEGIN:STANDARD
TZOFFSETFROM:-0700
TZOFFSETTO:-0800
TZNAME:PST
DTSTART:20221106T090000
END:STANDARD
END:VTIMEZONE
BEGIN:VEVENT
DTSTART;TZID=America/Los_Angeles:20220119T090000
DTEND;TZID=America/Los_Angeles:20220119T110000
DTSTAMP:20260422T150914
CREATED:20220103T020623Z
LAST-MODIFIED:20220103T020623Z
UID:15729-1642582800-1642590000@waterwrights.net
SUMMARY:State Board - 9 am
DESCRIPTION:State Board – Board 9 am – https://www.waterboards.ca.gov/
URL:https://waterwrights.net/event/state-board-9-am-17/
END:VEVENT
BEGIN:VEVENT
DTSTART;TZID=America/Los_Angeles:20220119T090000
DTEND;TZID=America/Los_Angeles:20220119T110000
DTSTAMP:20260422T150914
CREATED:20220103T021818Z
LAST-MODIFIED:20220113T164049Z
UID:15743-1642582800-1642590000@waterwrights.net
SUMMARY:Western Canal WD - 9 am
DESCRIPTION:Western Canal WD – Board 9 am – http://westerncanal.com/
URL:https://waterwrights.net/event/western-canal-wd-9-am-8/
END:VEVENT
BEGIN:VEVENT
DTSTART;TZID=America/Los_Angeles:20220119T093000
DTEND;TZID=America/Los_Angeles:20220119T113000
DTSTAMP:20260422T150914
CREATED:20220103T020800Z
LAST-MODIFIED:20220103T020800Z
UID:15731-1642584600-1642591800@waterwrights.net
SUMMARY:California Water Commission - 9:30 am
DESCRIPTION:California Water Commission – Board 9:30 am – https://cwc.ca.gov/
URL:https://waterwrights.net/event/california-water-commission-930-am-8/
END:VEVENT
END:VCALENDAR