BEGIN:VCALENDAR
VERSION:2.0
PRODID:-//Water Wrights - ECPv5.16.4//NONSGML v1.0//EN
CALSCALE:GREGORIAN
METHOD:PUBLISH
X-WR-CALNAME:Water Wrights
X-ORIGINAL-URL:https://waterwrights.net
X-WR-CALDESC:Events for Water Wrights
BEGIN:VTIMEZONE
TZID:America/Los_Angeles
BEGIN:DAYLIGHT
TZOFFSETFROM:-0800
TZOFFSETTO:-0700
TZNAME:PDT
DTSTART:20220313T100000
END:DAYLIGHT
BEGIN:STANDARD
TZOFFSETFROM:-0700
TZOFFSETTO:-0800
TZNAME:PST
DTSTART:20221106T090000
END:STANDARD
END:VTIMEZONE
BEGIN:VEVENT
DTSTART;TZID=America/Los_Angeles:20220127T083000
DTEND;TZID=America/Los_Angeles:20220127T123000
DTSTAMP:20260422T151012
CREATED:20220103T014349Z
LAST-MODIFIED:20220103T014349Z
UID:15719-1643272200-1643286600@waterwrights.net
SUMMARY:Friant Water Authority - 8:30 am
DESCRIPTION:Friant Water Authority – Board 8:30 am – https://friantwater.org/
URL:https://waterwrights.net/event/friant-water-authority-830-am-8/
END:VEVENT
BEGIN:VEVENT
DTSTART;TZID=America/Los_Angeles:20220127T090000
DTEND;TZID=America/Los_Angeles:20220127T110000
DTSTAMP:20260422T151012
CREATED:20220127T222345Z
LAST-MODIFIED:20220127T222345Z
UID:16125-1643274000-1643281200@waterwrights.net
SUMMARY:Tulare ID - 9 am
DESCRIPTION:Tulare ID – Board 9 am – https://tulareid.org/
URL:https://waterwrights.net/event/tulare-id-9-am-9/
END:VEVENT
BEGIN:VEVENT
DTSTART;TZID=America/Los_Angeles:20220127T180000
DTEND;TZID=America/Los_Angeles:20220127T200000
DTSTAMP:20260422T151012
CREATED:20220103T010958Z
LAST-MODIFIED:20220103T010958Z
UID:15698-1643306400-1643313600@waterwrights.net
SUMMARY:North Kings GSA - 6 pm
DESCRIPTION:North Kings GSA – Board 6 pm – www.northkingsgsa.org
URL:https://waterwrights.net/event/north-kings-gsa-6-pm-8/
END:VEVENT
END:VCALENDAR