BEGIN:VCALENDAR
VERSION:2.0
PRODID:-//Water Wrights - ECPv5.16.4//NONSGML v1.0//EN
CALSCALE:GREGORIAN
METHOD:PUBLISH
X-WR-CALNAME:Water Wrights
X-ORIGINAL-URL:https://waterwrights.net
X-WR-CALDESC:Events for Water Wrights
BEGIN:VTIMEZONE
TZID:America/Los_Angeles
BEGIN:DAYLIGHT
TZOFFSETFROM:-0800
TZOFFSETTO:-0700
TZNAME:PDT
DTSTART:20220313T100000
END:DAYLIGHT
BEGIN:STANDARD
TZOFFSETFROM:-0700
TZOFFSETTO:-0800
TZNAME:PST
DTSTART:20221106T090000
END:STANDARD
END:VTIMEZONE
BEGIN:VEVENT
DTSTART;TZID=America/Los_Angeles:20220208T080000
DTEND;TZID=America/Los_Angeles:20220210T170000
DTSTAMP:20260422T133001
CREATED:20220111T162438Z
LAST-MODIFIED:20220111T162438Z
UID:15907-1644307200-1644512400@waterwrights.net
SUMMARY:World Ag Expo 8-10th
DESCRIPTION:World Ag Expo February 8th-10th www.worldagexpo.com 
URL:https://waterwrights.net/event/world-ag-expo-8-10th/
END:VEVENT
BEGIN:VEVENT
DTSTART;TZID=America/Los_Angeles:20220208T080000
DTEND;TZID=America/Los_Angeles:20220208T100000
DTSTAMP:20260422T133001
CREATED:20220127T224945Z
LAST-MODIFIED:20220127T224945Z
UID:16139-1644307200-1644314400@waterwrights.net
SUMMARY:Rosedale Rio Bravo WSD - 8 am
DESCRIPTION:Rosedale Rio Bravo WSD – Board 8 am – https://www.rrbwsd.com/
URL:https://waterwrights.net/event/rosedale-rio-bravo-wsd-8-am-8/
END:VEVENT
BEGIN:VEVENT
DTSTART;TZID=America/Los_Angeles:20220208T090000
DTEND;TZID=America/Los_Angeles:20220208T110000
DTSTAMP:20260422T133001
CREATED:20220127T221917Z
LAST-MODIFIED:20220127T222109Z
UID:16121-1644310800-1644318000@waterwrights.net
SUMMARY:Corcoran ID - 9 am
DESCRIPTION:Corcoran ID – Board 9 am – (559) 992-5165
URL:https://waterwrights.net/event/corcoran-id-9-am-9/
END:VEVENT
BEGIN:VEVENT
DTSTART;TZID=America/Los_Angeles:20220208T090000
DTEND;TZID=America/Los_Angeles:20220208T110000
DTSTAMP:20260422T133001
CREATED:20220127T222441Z
LAST-MODIFIED:20220127T222441Z
UID:16127-1644310800-1644318000@waterwrights.net
SUMMARY:Lower Tule River ID - 9 am
DESCRIPTION:Lower Tule River ID – Board 9 am – http://www.ltrid.org/
URL:https://waterwrights.net/event/lower-tule-river-id-9-am-9/
END:VEVENT
BEGIN:VEVENT
DTSTART;TZID=America/Los_Angeles:20220208T090000
DTEND;TZID=America/Los_Angeles:20220208T110000
DTSTAMP:20260422T133001
CREATED:20220127T230352Z
LAST-MODIFIED:20220127T230352Z
UID:16145-1644310800-1644318000@waterwrights.net
SUMMARY:Turlock ID - 9 am
DESCRIPTION:Turlock ID – Board 9 am – https://www.tid.org/
URL:https://waterwrights.net/event/turlock-id-9-am-16/
END:VEVENT
BEGIN:VEVENT
DTSTART;TZID=America/Los_Angeles:20220208T090000
DTEND;TZID=America/Los_Angeles:20220208T110000
DTSTAMP:20260422T133001
CREATED:20220127T231040Z
LAST-MODIFIED:20220127T231040Z
UID:16151-1644310800-1644318000@waterwrights.net
SUMMARY:Modesto ID - 9 am
DESCRIPTION:Modesto ID – Board 9 am – https://www.mid.org/
URL:https://waterwrights.net/event/modesto-id-9-am-9/
END:VEVENT
BEGIN:VEVENT
DTSTART;TZID=America/Los_Angeles:20220208T093000
DTEND;TZID=America/Los_Angeles:20220208T113000
DTSTAMP:20260422T133001
CREATED:20220127T231737Z
LAST-MODIFIED:20220127T231737Z
UID:16155-1644312600-1644319800@waterwrights.net
SUMMARY:Central Delta WA - 9:30 am
DESCRIPTION:Central Delta WA – Board 9:30 am – (209) 465-5883
URL:https://waterwrights.net/event/central-delta-wa-930-am-9/
END:VEVENT
BEGIN:VEVENT
DTSTART;TZID=America/Los_Angeles:20220208T130000
DTEND;TZID=America/Los_Angeles:20220208T150000
DTSTAMP:20260422T133001
CREATED:20220128T182302Z
LAST-MODIFIED:20220128T182302Z
UID:16195-1644325200-1644332400@waterwrights.net
SUMMARY:El Rico GSA - 1 pm
DESCRIPTION:El Rico GSA – Board 1 pm – http://www.elricogsa.com/
URL:https://waterwrights.net/event/el-rico-gsa-1-pm-9/
END:VEVENT
BEGIN:VEVENT
DTSTART;TZID=America/Los_Angeles:20220208T130000
DTEND;TZID=America/Los_Angeles:20220208T150000
DTSTAMP:20260422T133001
CREATED:20220205T192002Z
LAST-MODIFIED:20220205T192002Z
UID:16252-1644325200-1644332400@waterwrights.net
SUMMARY:Mid Kings River GSA - 1 pm
DESCRIPTION:Mid Kings River GSA – Board 1 pm – http://www.midkingsrivergsa.org/
URL:https://waterwrights.net/event/mid-kings-river-gsa-1-pm-8/
END:VEVENT
BEGIN:VEVENT
DTSTART;TZID=America/Los_Angeles:20220208T133000
DTEND;TZID=America/Los_Angeles:20220208T153000
DTSTAMP:20260422T133001
CREATED:20220128T190610Z
LAST-MODIFIED:20220128T190610Z
UID:16205-1644327000-1644334200@waterwrights.net
SUMMARY:Kings River CD - 1:30 pm
DESCRIPTION:Kings River CD – Board 1:30 pm – krcd.org
URL:https://waterwrights.net/event/kings-river-cd-130-pm-4/
END:VEVENT
BEGIN:VEVENT
DTSTART;TZID=America/Los_Angeles:20220208T180000
DTEND;TZID=America/Los_Angeles:20220208T200000
DTSTAMP:20260422T133001
CREATED:20220128T180429Z
LAST-MODIFIED:20220128T180640Z
UID:16182-1644343200-1644350400@waterwrights.net
SUMMARY:Mid Kaweah GSA - 6 pm
DESCRIPTION:Mid Kaweah GSA – Board 6 pm – www.midkaweah.org
URL:https://waterwrights.net/event/greater-kaweah-gsa-1-pm-8/
END:VEVENT
END:VCALENDAR