BEGIN:VCALENDAR
VERSION:2.0
PRODID:-//Water Wrights - ECPv5.16.4//NONSGML v1.0//EN
CALSCALE:GREGORIAN
METHOD:PUBLISH
X-WR-CALNAME:Water Wrights
X-ORIGINAL-URL:https://waterwrights.net
X-WR-CALDESC:Events for Water Wrights
BEGIN:VTIMEZONE
TZID:America/Los_Angeles
BEGIN:DAYLIGHT
TZOFFSETFROM:-0800
TZOFFSETTO:-0700
TZNAME:PDT
DTSTART:20220313T100000
END:DAYLIGHT
BEGIN:STANDARD
TZOFFSETFROM:-0700
TZOFFSETTO:-0800
TZNAME:PST
DTSTART:20221106T090000
END:STANDARD
END:VTIMEZONE
BEGIN:VEVENT
DTSTART;TZID=America/Los_Angeles:20220208T080000
DTEND;TZID=America/Los_Angeles:20220210T170000
DTSTAMP:20260422T134113
CREATED:20220111T162438Z
LAST-MODIFIED:20220111T162438Z
UID:15907-1644307200-1644512400@waterwrights.net
SUMMARY:World Ag Expo 8-10th
DESCRIPTION:World Ag Expo February 8th-10th www.worldagexpo.com 
URL:https://waterwrights.net/event/world-ag-expo-8-10th/
END:VEVENT
BEGIN:VEVENT
DTSTART;TZID=America/Los_Angeles:20220209T080000
DTEND;TZID=America/Los_Angeles:20220209T100000
DTSTAMP:20260422T134113
CREATED:20220127T224815Z
LAST-MODIFIED:20220127T224815Z
UID:16137-1644393600-1644400800@waterwrights.net
SUMMARY:Wheeler Ridge Maricopa WSD - 8 am
DESCRIPTION:Wheeler Ridge Maricopa WSD – Board 8 am – https://wrmwsd.com/
URL:https://waterwrights.net/event/wheeler-ridge-maricopa-wsd-8-am-5/
END:VEVENT
BEGIN:VEVENT
DTSTART;TZID=America/Los_Angeles:20220209T123000
DTEND;TZID=America/Los_Angeles:20220209T143000
DTSTAMP:20260422T134113
CREATED:20220127T223305Z
LAST-MODIFIED:20220127T223305Z
UID:16133-1644409800-1644417000@waterwrights.net
SUMMARY:Semitropic WD - 12:30 pm
DESCRIPTION:Semitropic WD – Board 12:30 pm – http://semitropic.com/
URL:https://waterwrights.net/event/semitropic-wd-1230-pm-9/
END:VEVENT
BEGIN:VEVENT
DTSTART;TZID=America/Los_Angeles:20220209T130000
DTEND;TZID=America/Los_Angeles:20220209T150000
DTSTAMP:20260422T134113
CREATED:20220127T221542Z
LAST-MODIFIED:20220127T221542Z
UID:16119-1644411600-1644418800@waterwrights.net
SUMMARY:Consolidated ID - 1 pm
DESCRIPTION:Consolidated ID – Board 1 pm – https://cidwater.com/
URL:https://waterwrights.net/event/consolidated-id-1-pm-9/
END:VEVENT
END:VCALENDAR