BEGIN:VCALENDAR
VERSION:2.0
PRODID:-//Water Wrights - ECPv5.16.4//NONSGML v1.0//EN
CALSCALE:GREGORIAN
METHOD:PUBLISH
X-WR-CALNAME:Water Wrights
X-ORIGINAL-URL:https://waterwrights.net
X-WR-CALDESC:Events for Water Wrights
BEGIN:VTIMEZONE
TZID:America/Los_Angeles
BEGIN:DAYLIGHT
TZOFFSETFROM:-0800
TZOFFSETTO:-0700
TZNAME:PDT
DTSTART:20220313T100000
END:DAYLIGHT
BEGIN:STANDARD
TZOFFSETFROM:-0700
TZOFFSETTO:-0800
TZNAME:PST
DTSTART:20221106T090000
END:STANDARD
END:VTIMEZONE
BEGIN:VEVENT
DTSTART;TZID=America/Los_Angeles:20220208T080000
DTEND;TZID=America/Los_Angeles:20220210T170000
DTSTAMP:20260422T134734
CREATED:20220111T162438Z
LAST-MODIFIED:20220111T162438Z
UID:15907-1644307200-1644512400@waterwrights.net
SUMMARY:World Ag Expo 8-10th
DESCRIPTION:World Ag Expo February 8th-10th www.worldagexpo.com 
URL:https://waterwrights.net/event/world-ag-expo-8-10th/
END:VEVENT
BEGIN:VEVENT
DTSTART;TZID=America/Los_Angeles:20220210T090000
DTEND;TZID=America/Los_Angeles:20220210T110000
DTSTAMP:20260422T134734
CREATED:20220128T190338Z
LAST-MODIFIED:20220128T190338Z
UID:16203-1644483600-1644490800@waterwrights.net
SUMMARY:San Luis Delta Mendota WA - 9 am
DESCRIPTION:San Luis Delta Mendota WA – Board 9 am – https://sldmwa.org/
URL:https://waterwrights.net/event/san-luis-delta-mendota-wa-9-am/
END:VEVENT
BEGIN:VEVENT
DTSTART;TZID=America/Los_Angeles:20220210T100000
DTEND;TZID=America/Los_Angeles:20220210T120000
DTSTAMP:20260422T134734
CREATED:20220127T232050Z
LAST-MODIFIED:20220127T232050Z
UID:16157-1644487200-1644494400@waterwrights.net
SUMMARY:Butte WD - 10 am
DESCRIPTION:Butte WD – Board 10 am – https://buttewaterdistrict.org/
URL:https://waterwrights.net/event/butte-wd-10-am-5/
END:VEVENT
BEGIN:VEVENT
DTSTART;TZID=America/Los_Angeles:20220210T143000
DTEND;TZID=America/Los_Angeles:20220210T163000
DTSTAMP:20260422T134734
CREATED:20220127T222954Z
LAST-MODIFIED:20220127T222954Z
UID:16131-1644503400-1644510600@waterwrights.net
SUMMARY:Kern Tulare WD - 2:30 pm
DESCRIPTION:Kern Tulare WD – Board 2:30 pm – https://kern-tulare.com/
URL:https://waterwrights.net/event/kern-tulare-wd-230-pm-9/
END:VEVENT
BEGIN:VEVENT
DTSTART;TZID=America/Los_Angeles:20220210T150000
DTEND;TZID=America/Los_Angeles:20220210T170000
DTSTAMP:20260422T134734
CREATED:20220127T221351Z
LAST-MODIFIED:20220127T221351Z
UID:16117-1644505200-1644512400@waterwrights.net
SUMMARY:Fresno ID - 3 pm
DESCRIPTION:Fresno ID – Board 3 pm – www.fresnoirrigation.com
URL:https://waterwrights.net/event/fresno-id-3-pm-9/
END:VEVENT
BEGIN:VEVENT
DTSTART;TZID=America/Los_Angeles:20220210T160000
DTEND;TZID=America/Los_Angeles:20220210T180000
DTSTAMP:20260422T134734
CREATED:20220127T222821Z
LAST-MODIFIED:20220127T222821Z
UID:16129-1644508800-1644516000@waterwrights.net
SUMMARY:Delano Earlimart ID - 4 pm
DESCRIPTION:Delano Earlimart ID – Board 4 pm – https://www.deid.org/
URL:https://waterwrights.net/event/delano-earlimart-id-4-pm-8/
END:VEVENT
END:VCALENDAR