BEGIN:VCALENDAR
VERSION:2.0
PRODID:-//Water Wrights - ECPv5.16.4//NONSGML v1.0//EN
CALSCALE:GREGORIAN
METHOD:PUBLISH
X-WR-CALNAME:Water Wrights
X-ORIGINAL-URL:https://waterwrights.net
X-WR-CALDESC:Events for Water Wrights
BEGIN:VTIMEZONE
TZID:America/Los_Angeles
BEGIN:DAYLIGHT
TZOFFSETFROM:-0800
TZOFFSETTO:-0700
TZNAME:PDT
DTSTART:20220313T100000
END:DAYLIGHT
BEGIN:STANDARD
TZOFFSETFROM:-0700
TZOFFSETTO:-0800
TZNAME:PST
DTSTART:20221106T090000
END:STANDARD
END:VTIMEZONE
BEGIN:VEVENT
DTSTART;TZID=America/Los_Angeles:20220215T090000
DTEND;TZID=America/Los_Angeles:20220215T110000
DTSTAMP:20260422T151105
CREATED:20220127T232232Z
LAST-MODIFIED:20220127T232232Z
UID:16161-1644915600-1644922800@waterwrights.net
SUMMARY:Yuba County WA - 9 am
DESCRIPTION:Yuba County WA – Board 9 am – https://www.yubawater.org/
URL:https://waterwrights.net/event/yuba-county-wa-9-am-16/
END:VEVENT
BEGIN:VEVENT
DTSTART;TZID=America/Los_Angeles:20220215T090000
DTEND;TZID=America/Los_Angeles:20220215T110000
DTSTAMP:20260422T151105
CREATED:20220127T232732Z
LAST-MODIFIED:20220127T232732Z
UID:16169-1644915600-1644922800@waterwrights.net
SUMMARY:Western Canal WD - 9 am
DESCRIPTION:Western Canal WD – Board 9 am – http://westerncanal.com/
URL:https://waterwrights.net/event/western-canal-wd-9-am-9/
END:VEVENT
BEGIN:VEVENT
DTSTART;TZID=America/Los_Angeles:20220215T090000
DTEND;TZID=America/Los_Angeles:20220215T110000
DTSTAMP:20260422T151105
CREATED:20220128T190937Z
LAST-MODIFIED:20220128T190937Z
UID:16211-1644915600-1644922800@waterwrights.net
SUMMARY:State Board - 9 am
DESCRIPTION:State Board – Board 9 am – https://www.waterboards.ca.gov/
URL:https://waterwrights.net/event/state-board-9-am-19/
END:VEVENT
BEGIN:VEVENT
DTSTART;TZID=America/Los_Angeles:20220215T130000
DTEND;TZID=America/Los_Angeles:20220215T150000
DTSTAMP:20260422T151105
CREATED:20220127T220513Z
LAST-MODIFIED:20220127T220513Z
UID:16109-1644930000-1644937200@waterwrights.net
SUMMARY:Madera ID - 1 pm
DESCRIPTION:Madera ID – Board 1 pm – https://www.madera-id.org/
URL:https://waterwrights.net/event/madera-id-1-pm-4/
END:VEVENT
BEGIN:VEVENT
DTSTART;TZID=America/Los_Angeles:20220215T130000
DTEND;TZID=America/Los_Angeles:20220215T150000
DTSTAMP:20260422T151105
CREATED:20220127T220848Z
LAST-MODIFIED:20220127T220937Z
UID:16113-1644930000-1644937200@waterwrights.net
SUMMARY:Westlands WD - 1 pm
DESCRIPTION:Westlands WD – Board and GSA 1 pm – https://wwd.ca.gov/
URL:https://waterwrights.net/event/westlands-wd-1-pm-7/
END:VEVENT
END:VCALENDAR