BEGIN:VCALENDAR
VERSION:2.0
PRODID:-//Water Wrights - ECPv5.16.4//NONSGML v1.0//EN
CALSCALE:GREGORIAN
METHOD:PUBLISH
X-WR-CALNAME:Water Wrights
X-ORIGINAL-URL:https://waterwrights.net
X-WR-CALDESC:Events for Water Wrights
BEGIN:VTIMEZONE
TZID:America/Los_Angeles
BEGIN:DAYLIGHT
TZOFFSETFROM:-0800
TZOFFSETTO:-0700
TZNAME:PDT
DTSTART:20220313T100000
END:DAYLIGHT
BEGIN:STANDARD
TZOFFSETFROM:-0700
TZOFFSETTO:-0800
TZNAME:PST
DTSTART:20221106T090000
END:STANDARD
END:VTIMEZONE
BEGIN:VEVENT
DTSTART;TZID=America/Los_Angeles:20220224T083000
DTEND;TZID=America/Los_Angeles:20220224T123000
DTSTAMP:20260422T151743
CREATED:20220128T185818Z
LAST-MODIFIED:20220128T185818Z
UID:16201-1645691400-1645705800@waterwrights.net
SUMMARY:Friant Water Authority - 8:30 am
DESCRIPTION:Friant Water Authority – Board 8:30 am – https://friantwater.org/
URL:https://waterwrights.net/event/friant-water-authority-830-am-9/
END:VEVENT
BEGIN:VEVENT
DTSTART;TZID=America/Los_Angeles:20220224T120000
DTEND;TZID=America/Los_Angeles:20220224T140000
DTSTAMP:20260422T151743
CREATED:20220127T225601Z
LAST-MODIFIED:20220127T225601Z
UID:16141-1645704000-1645711200@waterwrights.net
SUMMARY:Kern County WA - 12 pm
DESCRIPTION:Kern County WA – Board 12 pm – https://www.kcwa.com/
URL:https://waterwrights.net/event/kern-county-wa-12-pm-9/
END:VEVENT
BEGIN:VEVENT
DTSTART;TZID=America/Los_Angeles:20220224T180000
DTEND;TZID=America/Los_Angeles:20220224T200000
DTSTAMP:20260422T151743
CREATED:20220128T175422Z
LAST-MODIFIED:20220128T175422Z
UID:16180-1645725600-1645732800@waterwrights.net
SUMMARY:North Kings GSA - 6 pm
DESCRIPTION:North Kings GSA – Board 6 pm – www.northkingsgsa.org
URL:https://waterwrights.net/event/north-kings-gsa-6-pm-9/
END:VEVENT
END:VCALENDAR