BEGIN:VCALENDAR
VERSION:2.0
PRODID:-//Water Wrights - ECPv5.16.4//NONSGML v1.0//EN
CALSCALE:GREGORIAN
METHOD:PUBLISH
X-WR-CALNAME:Water Wrights
X-ORIGINAL-URL:https://waterwrights.net
X-WR-CALDESC:Events for Water Wrights
BEGIN:VTIMEZONE
TZID:America/Los_Angeles
BEGIN:DAYLIGHT
TZOFFSETFROM:-0800
TZOFFSETTO:-0700
TZNAME:PDT
DTSTART:20220313T100000
END:DAYLIGHT
BEGIN:STANDARD
TZOFFSETFROM:-0700
TZOFFSETTO:-0800
TZNAME:PST
DTSTART:20221106T090000
END:STANDARD
END:VTIMEZONE
BEGIN:VEVENT
DTSTART;TZID=America/Los_Angeles:20220421T150000
DTEND;TZID=America/Los_Angeles:20220421T170000
DTSTAMP:20260422T105130
CREATED:20220404T232601Z
LAST-MODIFIED:20220404T232601Z
UID:16668-1650553200-1650560400@waterwrights.net
SUMMARY:Fresno ID 3pm
DESCRIPTION:FID Board 3pm http://www\,fresnoirrigation.com
URL:https://waterwrights.net/event/fresno-id-3pm/
END:VEVENT
BEGIN:VEVENT
DTSTART;TZID=America/Los_Angeles:20220421T173000
DTEND;TZID=America/Los_Angeles:20220421T193000
DTSTAMP:20260422T105130
CREATED:20220402T184144Z
LAST-MODIFIED:20220402T184144Z
UID:16625-1650562200-1650569400@waterwrights.net
SUMMARY:South Fork Kings GSA 5:30pm
DESCRIPTION:SFKGSA Board 5:30pmhttp://www.southforkkings.org
URL:https://waterwrights.net/event/south-fork-kings-gsa-530pm-6/
END:VEVENT
END:VCALENDAR