BEGIN:VCALENDAR
VERSION:2.0
PRODID:-//Water Wrights - ECPv5.16.4//NONSGML v1.0//EN
CALSCALE:GREGORIAN
METHOD:PUBLISH
X-WR-CALNAME:Water Wrights
X-ORIGINAL-URL:https://waterwrights.net
X-WR-CALDESC:Events for Water Wrights
BEGIN:VTIMEZONE
TZID:America/Los_Angeles
BEGIN:DAYLIGHT
TZOFFSETFROM:-0800
TZOFFSETTO:-0700
TZNAME:PDT
DTSTART:20220313T100000
END:DAYLIGHT
BEGIN:STANDARD
TZOFFSETFROM:-0700
TZOFFSETTO:-0800
TZNAME:PST
DTSTART:20221106T090000
END:STANDARD
END:VTIMEZONE
BEGIN:VEVENT
DTSTART;TZID=America/Los_Angeles:20220428T100000
DTEND;TZID=America/Los_Angeles:20220428T120000
DTSTAMP:20260424T015040
CREATED:20220405T135732Z
LAST-MODIFIED:20220405T135732Z
UID:16688-1651140000-1651147200@waterwrights.net
SUMMARY:Friant Water Authority 10am
DESCRIPTION:FWA Board 10am http://www.friantwater.org
URL:https://waterwrights.net/event/friant-water-authority-10am-2/
END:VEVENT
BEGIN:VEVENT
DTSTART;TZID=America/Los_Angeles:20220428T180000
DTEND;TZID=America/Los_Angeles:20220428T200000
DTSTAMP:20260424T015040
CREATED:20220402T181655Z
LAST-MODIFIED:20220422T184350Z
UID:16618-1651168800-1651176000@waterwrights.net
SUMMARY:North Kings GSA 6pm Cancelled
DESCRIPTION:NKGSA Board 6pm www.northkingsgsa.org  \nCancelled
URL:https://waterwrights.net/event/north-kings-gsa-6pm-7/
END:VEVENT
END:VCALENDAR