BEGIN:VCALENDAR
VERSION:2.0
PRODID:-//Water Wrights - ECPv5.16.4//NONSGML v1.0//EN
CALSCALE:GREGORIAN
METHOD:PUBLISH
X-WR-CALNAME:Water Wrights
X-ORIGINAL-URL:https://waterwrights.net
X-WR-CALDESC:Events for Water Wrights
BEGIN:VTIMEZONE
TZID:America/Los_Angeles
BEGIN:DAYLIGHT
TZOFFSETFROM:-0800
TZOFFSETTO:-0700
TZNAME:PDT
DTSTART:20220313T100000
END:DAYLIGHT
BEGIN:STANDARD
TZOFFSETFROM:-0700
TZOFFSETTO:-0800
TZNAME:PST
DTSTART:20221106T090000
END:STANDARD
END:VTIMEZONE
BEGIN:VEVENT
DTSTART;TZID=America/Los_Angeles:20220613T080000
DTEND;TZID=America/Los_Angeles:20220613T170000
DTSTAMP:20260424T014938
CREATED:20220611T160020Z
LAST-MODIFIED:20220611T160020Z
UID:17061-1655107200-1655139600@waterwrights.net
SUMMARY:North Fork Kings GSA Cancelled
DESCRIPTION:NFKGSA Cancelled
URL:https://waterwrights.net/event/north-fork-kings-gsa-cancelled/
END:VEVENT
BEGIN:VEVENT
DTSTART;TZID=America/Los_Angeles:20220613T100000
DTEND;TZID=America/Los_Angeles:20220613T113000
DTSTAMP:20260424T014938
CREATED:20220601T145719Z
LAST-MODIFIED:20220613T143138Z
UID:16986-1655114400-1655119800@waterwrights.net
SUMMARY:Friant Water Authority Ex Cmt 10 am
DESCRIPTION:FWA Executive Committee 10am Lindsay HQ and online http://www.friantwater.org
URL:https://waterwrights.net/event/friant-water-authority-ex-cmt-830-am/
END:VEVENT
BEGIN:VEVENT
DTSTART;TZID=America/Los_Angeles:20220613T130000
DTEND;TZID=America/Los_Angeles:20220613T153000
DTSTAMP:20260424T014938
CREATED:20220601T151316Z
LAST-MODIFIED:20220601T151316Z
UID:17009-1655125200-1655134200@waterwrights.net
SUMMARY:Greater Kaweah GSA 1pm
DESCRIPTION:GKGSA 1pm Farmersville HQ online http://www.greaterkaweahgsa.org
URL:https://waterwrights.net/event/greater-kaweah-gsa-1pm-6/
END:VEVENT
END:VCALENDAR