BEGIN:VCALENDAR
VERSION:2.0
PRODID:-//Water Wrights - ECPv5.16.4//NONSGML v1.0//EN
CALSCALE:GREGORIAN
METHOD:PUBLISH
X-WR-CALNAME:Water Wrights
X-ORIGINAL-URL:https://waterwrights.net
X-WR-CALDESC:Events for Water Wrights
BEGIN:VTIMEZONE
TZID:America/Los_Angeles
BEGIN:DAYLIGHT
TZOFFSETFROM:-0800
TZOFFSETTO:-0700
TZNAME:PDT
DTSTART:20220313T100000
END:DAYLIGHT
BEGIN:STANDARD
TZOFFSETFROM:-0700
TZOFFSETTO:-0800
TZNAME:PST
DTSTART:20221106T090000
END:STANDARD
END:VTIMEZONE
BEGIN:VEVENT
DTSTART;TZID=America/Los_Angeles:20220707T090000
DTEND;TZID=America/Los_Angeles:20220707T110000
DTSTAMP:20260422T060843
CREATED:20220625T235807Z
LAST-MODIFIED:20220625T235807Z
UID:17198-1657184400-1657191600@waterwrights.net
SUMMARY:Glenn-Colusa Irrigation District 9:00am
DESCRIPTION:GCID 9am – 11am\n344 E Laurel Street Willows CA 95988\nwww.gcid.net
URL:https://waterwrights.net/event/glenn-colusa-irrigation-district-900am/
END:VEVENT
BEGIN:VEVENT
DTSTART;TZID=America/Los_Angeles:20220707T120000
DTEND;TZID=America/Los_Angeles:20220707T130000
DTSTAMP:20260422T060843
CREATED:20220626T233531Z
LAST-MODIFIED:20220626T233531Z
UID:17206-1657195200-1657198800@waterwrights.net
SUMMARY:Madera Subbasin GSA 12:00pm
DESCRIPTION:MSGSA 12pm – 1pm\n200 W. Fourth Street Madera\, CA 93637\nwww.maderacountywater.com/madera-subbasin/
URL:https://waterwrights.net/event/madera-subbasin-gsa-1200pm/
END:VEVENT
BEGIN:VEVENT
DTSTART;TZID=America/Los_Angeles:20220707T120000
DTEND;TZID=America/Los_Angeles:20220707T130000
DTSTAMP:20260422T060843
CREATED:20220626T233739Z
LAST-MODIFIED:20220626T233739Z
UID:17208-1657195200-1657198800@waterwrights.net
SUMMARY:Chowchilla Subbasin GSA 12:00pm
DESCRIPTION:CSGSA 12pm – 1pm\n200 W. Fourth Street Madera\, CA 93637\nwww.maderacountywater.com/chowchilla-subbasin/
URL:https://waterwrights.net/event/chowchilla-subbasin-gsa-1200pm/
END:VEVENT
BEGIN:VEVENT
DTSTART;TZID=America/Los_Angeles:20220707T130000
DTEND;TZID=America/Los_Angeles:20220707T150000
DTSTAMP:20260422T060843
CREATED:20220622T225958Z
LAST-MODIFIED:20220706T194959Z
UID:17119-1657198800-1657206000@waterwrights.net
SUMMARY:Tri County Water Authority 1:00pm
DESCRIPTION:TCWA 1:00pm – 3:00pm\n944 Whitley Ave. Ste. E Corcoran CA 93212\nwww.tcwater.org
URL:https://waterwrights.net/event/tri-county-water-authority-100pm/
END:VEVENT
BEGIN:VEVENT
DTSTART;TZID=America/Los_Angeles:20220707T130000
DTEND;TZID=America/Los_Angeles:20220707T150000
DTSTAMP:20260422T060843
CREATED:20220625T225627Z
LAST-MODIFIED:20220625T225627Z
UID:17155-1657198800-1657206000@waterwrights.net
SUMMARY:Kern Delta Water District 1:00pm
DESCRIPTION:KDWD 1pm – 3pm\n501 Taft High Way Bakersfield CA 93307\nwww.kerndelta.org
URL:https://waterwrights.net/event/kern-delta-water-district-100pm/
END:VEVENT
END:VCALENDAR