BEGIN:VCALENDAR
VERSION:2.0
PRODID:-//Water Wrights - ECPv5.16.4//NONSGML v1.0//EN
CALSCALE:GREGORIAN
METHOD:PUBLISH
X-WR-CALNAME:Water Wrights
X-ORIGINAL-URL:https://waterwrights.net
X-WR-CALDESC:Events for Water Wrights
BEGIN:VTIMEZONE
TZID:America/Los_Angeles
BEGIN:DAYLIGHT
TZOFFSETFROM:-0800
TZOFFSETTO:-0700
TZNAME:PDT
DTSTART:20220313T100000
END:DAYLIGHT
BEGIN:STANDARD
TZOFFSETFROM:-0700
TZOFFSETTO:-0800
TZNAME:PST
DTSTART:20221106T090000
END:STANDARD
END:VTIMEZONE
BEGIN:VEVENT
DTSTART;TZID=America/Los_Angeles:20220712T080000
DTEND;TZID=America/Los_Angeles:20220712T100000
DTSTAMP:20260422T061007
CREATED:20220625T225352Z
LAST-MODIFIED:20220718T234508Z
UID:17153-1657612800-1657620000@waterwrights.net
SUMMARY:Rosedale Rio Bravo Water Service District 8:00am
DESCRIPTION:RRBWSD 8am – 10am\n849 Allen Road Bakersfield CA 93314\nwww.rrbwsd.com
URL:https://waterwrights.net/event/rosedale-rio-bravo-water-service-district-800am/
END:VEVENT
BEGIN:VEVENT
DTSTART;TZID=America/Los_Angeles:20220712T090000
DTEND;TZID=America/Los_Angeles:20220712T123000
DTSTAMP:20260422T061007
CREATED:20220622T231311Z
LAST-MODIFIED:20220622T231311Z
UID:17123-1657616400-1657629000@waterwrights.net
SUMMARY:Tulare Irrigation District 9:00am
DESCRIPTION:TID 9:00am\n6826 Avenue 240 Tulare CA 93274\nwww.tulareid.org
URL:https://waterwrights.net/event/tulare-irrigation-district-900am/
END:VEVENT
BEGIN:VEVENT
DTSTART;TZID=America/Los_Angeles:20220712T090000
DTEND;TZID=America/Los_Angeles:20220712T103000
DTSTAMP:20260422T061007
CREATED:20220623T182525Z
LAST-MODIFIED:20220623T182525Z
UID:17133-1657616400-1657621800@waterwrights.net
SUMMARY:Lower Tule River Irrigation District 9:00am
DESCRIPTION:Lower Tule River ID 9:00am – 10:30am\n357 East Olive Ave Tipton CA 93272\nwww.ltrid.org
URL:https://waterwrights.net/event/lower-tule-river-irrigation-district-900am/
END:VEVENT
BEGIN:VEVENT
DTSTART;TZID=America/Los_Angeles:20220712T090000
DTEND;TZID=America/Los_Angeles:20220712T110000
DTSTAMP:20260422T061007
CREATED:20220625T231358Z
LAST-MODIFIED:20220625T231358Z
UID:17170-1657616400-1657623600@waterwrights.net
SUMMARY:Turlock Irrigation District 9:00am
DESCRIPTION:TID 9am – 11am\n333 E. Canal Drive Turlock CA 95380\nwww.tid.org
URL:https://waterwrights.net/event/turlock-irrigation-district-900am-2/
END:VEVENT
BEGIN:VEVENT
DTSTART;TZID=America/Los_Angeles:20220712T090000
DTEND;TZID=America/Los_Angeles:20220712T110000
DTSTAMP:20260422T061007
CREATED:20220625T232501Z
LAST-MODIFIED:20220625T232501Z
UID:17178-1657616400-1657623600@waterwrights.net
SUMMARY:Modesto Irrigation District 9:00am
DESCRIPTION:MID 9am – 11am\n1231 11 Street Modesto CA 95354\nwww.mid.org
URL:https://waterwrights.net/event/modesto-irrigation-district-900am/
END:VEVENT
BEGIN:VEVENT
DTSTART;TZID=America/Los_Angeles:20220712T090000
DTEND;TZID=America/Los_Angeles:20220712T110000
DTSTAMP:20260422T061007
CREATED:20220625T234704Z
LAST-MODIFIED:20220625T234704Z
UID:17186-1657616400-1657623600@waterwrights.net
SUMMARY:South San Joaquin Irrigation District 9:00am
DESCRIPTION:SSJID 9am – 11am\n11011 E. Highway 120 Manteca CA 95336\nwww.ssjid.com
URL:https://waterwrights.net/event/south-san-joaquin-irrigation-district-900am-2/
END:VEVENT
BEGIN:VEVENT
DTSTART;TZID=America/Los_Angeles:20220712T120000
DTEND;TZID=America/Los_Angeles:20220712T140000
DTSTAMP:20260422T061007
CREATED:20220625T230050Z
LAST-MODIFIED:20220712T210813Z
UID:17159-1657627200-1657634400@waterwrights.net
SUMMARY:Arvin Edison Water Storage District 12:00pm
DESCRIPTION:AEWSD 12pm – 2pm\n20401 Bear Mountain Blvd Arvin CA 93203\nwww.aewsd.org
URL:https://waterwrights.net/event/arvin-edison-water-service-district-1200pm/
END:VEVENT
BEGIN:VEVENT
DTSTART;TZID=America/Los_Angeles:20220712T130000
DTEND;TZID=America/Los_Angeles:20220712T153000
DTSTAMP:20260422T061007
CREATED:20220622T231737Z
LAST-MODIFIED:20220623T181859Z
UID:17126-1657630800-1657639800@waterwrights.net
SUMMARY:Kings County Water District 1:00pm
DESCRIPTION:Kings County WD 1:00pm\n200 Campus Drive Hanford CA 93230\nwww.kingscwd.org
URL:https://waterwrights.net/event/kings-county-water-district-mkrgsa-100pm/
END:VEVENT
BEGIN:VEVENT
DTSTART;TZID=America/Los_Angeles:20220712T130000
DTEND;TZID=America/Los_Angeles:20220712T150000
DTSTAMP:20260422T061007
CREATED:20220627T000207Z
LAST-MODIFIED:20220711T164414Z
UID:17220-1657630800-1657638000@waterwrights.net
SUMMARY:El Rico GSA 1:00pm Cancelled
DESCRIPTION:ERGSA 1pm – 3pm July board meeting cancelled\n1001 Chase Avenue\, Corcoran CA 93212\nwww.elricogsa.com
URL:https://waterwrights.net/event/el-rico-gsa-100pm/
END:VEVENT
BEGIN:VEVENT
DTSTART;TZID=America/Los_Angeles:20220712T140000
DTEND;TZID=America/Los_Angeles:20220712T160000
DTSTAMP:20260422T061007
CREATED:20220623T182222Z
LAST-MODIFIED:20220623T182222Z
UID:17131-1657634400-1657641600@waterwrights.net
SUMMARY:Lindmore Irrigation District 2:00pm
DESCRIPTION:Lindmore ID 2pm – 4pm\n315 E. Lindmore Street Lindsay CA 93247\nwww.lindmoreid.com
URL:https://waterwrights.net/event/lindmore-irrigation-district-200pm/
END:VEVENT
BEGIN:VEVENT
DTSTART;TZID=America/Los_Angeles:20220712T150000
DTEND;TZID=America/Los_Angeles:20220712T170000
DTSTAMP:20260422T061007
CREATED:20220625T230338Z
LAST-MODIFIED:20220625T230338Z
UID:17161-1657638000-1657645200@waterwrights.net
SUMMARY:Kern Water Bank 3:00pm
DESCRIPTION:KWB 3pm – 5pm\n1620 Mill Rock Way\, Ste 500 Bakersfield CA 93311\nwww.kwb.org
URL:https://waterwrights.net/event/kern-water-bank-300pm/
END:VEVENT
END:VCALENDAR