BEGIN:VCALENDAR
VERSION:2.0
PRODID:-//Water Wrights - ECPv5.16.4//NONSGML v1.0//EN
CALSCALE:GREGORIAN
METHOD:PUBLISH
X-WR-CALNAME:Water Wrights
X-ORIGINAL-URL:https://waterwrights.net
X-WR-CALDESC:Events for Water Wrights
BEGIN:VTIMEZONE
TZID:America/Los_Angeles
BEGIN:DAYLIGHT
TZOFFSETFROM:-0800
TZOFFSETTO:-0700
TZNAME:PDT
DTSTART:20220313T100000
END:DAYLIGHT
BEGIN:STANDARD
TZOFFSETFROM:-0700
TZOFFSETTO:-0800
TZNAME:PST
DTSTART:20221106T090000
END:STANDARD
END:VTIMEZONE
BEGIN:VEVENT
DTSTART;TZID=America/Los_Angeles:20220714T090000
DTEND;TZID=America/Los_Angeles:20220714T110000
DTSTAMP:20260422T060958
CREATED:20220625T225130Z
LAST-MODIFIED:20220625T225130Z
UID:17151-1657789200-1657796400@waterwrights.net
SUMMARY:Cawelo Water District 9:00am
DESCRIPTION:CWD 9am – 11am\n17207 Industrial Farm Road Bakersfield CA 93308\nwww.cawelowd.org
URL:https://waterwrights.net/event/cawelo-water-district-900am/
END:VEVENT
BEGIN:VEVENT
DTSTART;TZID=America/Los_Angeles:20220714T093000
DTEND;TZID=America/Los_Angeles:20220714T113000
DTSTAMP:20260422T060958
CREATED:20220625T230712Z
LAST-MODIFIED:20220625T231012Z
UID:17163-1657791000-1657798200@waterwrights.net
SUMMARY:San Luis Delta Mendota 9:30am
DESCRIPTION:SLDM 9:30am – 11:30am\n842 6th Street Los Banos CA 93635\nwww.sldmwa.org
URL:https://waterwrights.net/event/san-luis-delta-mendota-930am-3/
END:VEVENT
BEGIN:VEVENT
DTSTART;TZID=America/Los_Angeles:20220714T100000
DTEND;TZID=America/Los_Angeles:20220714T233000
DTSTAMP:20260422T060958
CREATED:20220622T223058Z
LAST-MODIFIED:20220706T194732Z
UID:17111-1657792800-1657841400@waterwrights.net
SUMMARY:Triangle T Water District & GSA 10:00am
DESCRIPTION:Triangle T Water District 11:00am – 11:30am / Groundwater Sustainability Agency July 14 10:00am – 11:00am\n4400 Hays Drive Chowchilla CA 93610\nwww.triangletwaterdistrict.org \n  \n 
URL:https://waterwrights.net/event/triangle-t-water-district-gsa-1000am/
END:VEVENT
BEGIN:VEVENT
DTSTART;TZID=America/Los_Angeles:20220714T100000
DTEND;TZID=America/Los_Angeles:20220714T120000
DTSTAMP:20260422T060958
CREATED:20220625T235146Z
LAST-MODIFIED:20220625T235146Z
UID:17192-1657792800-1657800000@waterwrights.net
SUMMARY:Butte Water District 10:00am
DESCRIPTION:BWD 10am – 12pm\n735 Virginia Street Gridley CA 95948\nwww.buttewaterdistrict.org
URL:https://waterwrights.net/event/butte-water-district-1000am/
END:VEVENT
BEGIN:VEVENT
DTSTART;TZID=America/Los_Angeles:20220714T150000
DTEND;TZID=America/Los_Angeles:20220714T170000
DTSTAMP:20260422T060958
CREATED:20220622T224529Z
LAST-MODIFIED:20220622T224529Z
UID:17115-1657810800-1657818000@waterwrights.net
SUMMARY:Fresno Irrigation District 3:00pm
DESCRIPTION:FID 3:00pm\n2097 S. Mapel Ave Fresno CA 93725\nwww.fresnoirrigation.com
URL:https://waterwrights.net/event/fresno-irrigation-district-300pm/
END:VEVENT
END:VCALENDAR