BEGIN:VCALENDAR
VERSION:2.0
PRODID:-//Water Wrights - ECPv5.16.4//NONSGML v1.0//EN
CALSCALE:GREGORIAN
METHOD:PUBLISH
X-WR-CALNAME:Water Wrights
X-ORIGINAL-URL:https://waterwrights.net
X-WR-CALDESC:Events for Water Wrights
BEGIN:VTIMEZONE
TZID:America/Los_Angeles
BEGIN:DAYLIGHT
TZOFFSETFROM:-0800
TZOFFSETTO:-0700
TZNAME:PDT
DTSTART:20220313T100000
END:DAYLIGHT
BEGIN:STANDARD
TZOFFSETFROM:-0700
TZOFFSETTO:-0800
TZNAME:PST
DTSTART:20221106T090000
END:STANDARD
END:VTIMEZONE
BEGIN:VEVENT
DTSTART;TZID=America/Los_Angeles:20220720T080000
DTEND;TZID=America/Los_Angeles:20220720T110000
DTSTAMP:20260422T061023
CREATED:20220630T211727Z
LAST-MODIFIED:20220630T211727Z
UID:17250-1658304000-1658314800@waterwrights.net
SUMMARY:Biggs-West Gridley Water District 8:00am
DESCRIPTION:BWGWD 8am\n1713 W. Biggs Gridely Road Gridley CA 95948\nwww.bwgwater.com
URL:https://waterwrights.net/event/biggs-west-gridley-water-district-800am/
END:VEVENT
BEGIN:VEVENT
DTSTART;TZID=America/Los_Angeles:20220720T080000
DTEND;TZID=America/Los_Angeles:20220720T100000
DTSTAMP:20260422T061023
CREATED:20220718T194832Z
LAST-MODIFIED:20220718T194832Z
UID:17674-1658304000-1658311200@waterwrights.net
SUMMARY:Kern Groundwater Authority 8:00am
DESCRIPTION:KGA 8am – 10am\nhttps://zoom.us/j/97113753870?pwd=YWg5Y295TWRZUGFhUFQ0SC9JNy9kQT09\nMeeting ID 971 1375 3870\nPasscode: 331207
URL:https://waterwrights.net/event/kern-groundwater-authority-800am/
END:VEVENT
BEGIN:VEVENT
DTSTART;TZID=America/Los_Angeles:20220720T093000
DTEND;TZID=America/Los_Angeles:20220720T170000
DTSTAMP:20260422T061023
CREATED:20220711T140545Z
LAST-MODIFIED:20220711T140545Z
UID:17372-1658309400-1658336400@waterwrights.net
SUMMARY:California Water Commission Drought Panel 9:30am
DESCRIPTION:The California Water Commission will host a panel of experts to explore California droughts of the past\, present\, and future. This panel is an introduction to the Commission’s work in support of Water Resilience Portfolio Action 26.3\, through which the Commission will consider potential strategies to protect communities and fish and wildlife in the event of long-term drought. The panel will present climate science\, water management\, and water policy perspectives on the topic of droughts in California. \nThe panel will include: \nJohn Abatzoglou\, Associate Professor at the University of California\, Merced School of Engineering; Jeanine Jones\, Interstate Resources Manager and Drought Manager at the California Department of Water Resources (DWR); and Ellen Hanak\, Vice President and Director of the Water Policy Center and Senior Fellow at the Public Policy Institute of California. \nWhen: 9:30 a.m. Wednesday\, July 20 \nWhere: California Natural Resources Building\, 715 P Street\, Sacramento\, 95814 \nInfo: (916) 873-5774\, www.cwc.ca.gov
URL:https://waterwrights.net/event/california-water-commission-drought-panel-930am/
END:VEVENT
BEGIN:VEVENT
DTSTART;TZID=America/Los_Angeles:20220720T103000
DTEND;TZID=America/Los_Angeles:20220720T123000
DTSTAMP:20260422T061023
CREATED:20220719T193338Z
LAST-MODIFIED:20220719T193338Z
UID:17678-1658313000-1658320200@waterwrights.net
SUMMARY:Wheeler Ridge-Maricopa WSD 10:30am
DESCRIPTION:WRMWSD 10:30am – 12:30pm\n12109 Hwy 166\nhttps://www.gotomeet.me/WRMWSD
URL:https://waterwrights.net/event/wheeler-ridge-maricopa-wsd-1030am/
END:VEVENT
BEGIN:VEVENT
DTSTART;TZID=America/Los_Angeles:20220720T123000
DTEND;TZID=America/Los_Angeles:20220720T143000
DTSTAMP:20260422T061023
CREATED:20220623T184504Z
LAST-MODIFIED:20220706T195836Z
UID:17141-1658320200-1658327400@waterwrights.net
SUMMARY:Buena Vista Water Service District 12:30pm
DESCRIPTION:Buena Vista WSD 12:30pm – 2:30pm\n525 Main Street Buttonwillow CA 93206\nwww.bvh2o.com
URL:https://waterwrights.net/event/buena-vista-water-service-district-time-not-listed-yet/
END:VEVENT
END:VCALENDAR