BEGIN:VCALENDAR
VERSION:2.0
PRODID:-//Water Wrights - ECPv5.16.4//NONSGML v1.0//EN
CALSCALE:GREGORIAN
METHOD:PUBLISH
X-WR-CALNAME:Water Wrights
X-ORIGINAL-URL:https://waterwrights.net
X-WR-CALDESC:Events for Water Wrights
BEGIN:VTIMEZONE
TZID:America/Los_Angeles
BEGIN:DAYLIGHT
TZOFFSETFROM:-0800
TZOFFSETTO:-0700
TZNAME:PDT
DTSTART:20220313T100000
END:DAYLIGHT
BEGIN:STANDARD
TZOFFSETFROM:-0700
TZOFFSETTO:-0800
TZNAME:PST
DTSTART:20221106T090000
END:STANDARD
END:VTIMEZONE
BEGIN:VEVENT
DTSTART;TZID=America/Los_Angeles:20220802T090000
DTEND;TZID=America/Los_Angeles:20220802T110000
DTSTAMP:20260422T043540
CREATED:20220707T214013Z
LAST-MODIFIED:20220707T214013Z
UID:17296-1659430800-1659438000@waterwrights.net
SUMMARY:Kaweah Delta Water Conservation District 9:00am
DESCRIPTION:KDWCD 9am – 11am\n2975 N. Farmersville Blvd Farmersville CA 93223\nwww.kdwcd.com
URL:https://waterwrights.net/event/kaweah-delta-water-conservation-district-900am/
END:VEVENT
BEGIN:VEVENT
DTSTART;TZID=America/Los_Angeles:20220802T090000
DTEND;TZID=America/Los_Angeles:20220802T110000
DTSTAMP:20260422T043540
CREATED:20220708T210705Z
LAST-MODIFIED:20220708T210705Z
UID:17335-1659430800-1659438000@waterwrights.net
SUMMARY:Turlock Irrigation District 9:00am
DESCRIPTION:TID 9am – 11am\n333 E. Canal Drive Turlock CA 95380\nwww.tid.org
URL:https://waterwrights.net/event/turlock-irrigation-district-900am-5/
END:VEVENT
BEGIN:VEVENT
DTSTART;TZID=America/Los_Angeles:20220802T090000
DTEND;TZID=America/Los_Angeles:20220802T110000
DTSTAMP:20260422T043540
CREATED:20220708T211214Z
LAST-MODIFIED:20220708T211214Z
UID:17347-1659430800-1659438000@waterwrights.net
SUMMARY:Oakdale Irrigation District 9:00am
DESCRIPTION:OID 9am – 11am\n1205 East F Street Oakdale CA 95361\nwww.oakdaleirrigation.com
URL:https://waterwrights.net/event/oakdale-irrigation-district-900am-2/
END:VEVENT
BEGIN:VEVENT
DTSTART;TZID=America/Los_Angeles:20220802T090000
DTEND;TZID=America/Los_Angeles:20220802T110000
DTSTAMP:20260422T043540
CREATED:20220708T212436Z
LAST-MODIFIED:20220708T212436Z
UID:17359-1659430800-1659438000@waterwrights.net
SUMMARY:Yuba County Water Authority (entire county) 9:00am
DESCRIPTION:YCWA 9am – 11am\n1220 F Street Marysville CA 995901\nwww.ycwa.com
URL:https://waterwrights.net/event/yuba-county-water-authority-entire-county-900am-3/
END:VEVENT
BEGIN:VEVENT
DTSTART;TZID=America/Los_Angeles:20220802T130000
DTEND;TZID=America/Los_Angeles:20220802T150000
DTSTAMP:20260422T043540
CREATED:20220708T205923Z
LAST-MODIFIED:20220708T205923Z
UID:17325-1659445200-1659452400@waterwrights.net
SUMMARY:Kern Delta Water District 1pm
DESCRIPTION:KDWD 1pm – 3pm\n501 Taft High Way Bakersfield CA 93307\nwww.kerndelta.org
URL:https://waterwrights.net/event/kern-delta-water-district-1pm/
END:VEVENT
END:VCALENDAR