BEGIN:VCALENDAR
VERSION:2.0
PRODID:-//Water Wrights - ECPv5.16.4//NONSGML v1.0//EN
CALSCALE:GREGORIAN
METHOD:PUBLISH
X-WR-CALNAME:Water Wrights
X-ORIGINAL-URL:https://waterwrights.net
X-WR-CALDESC:Events for Water Wrights
BEGIN:VTIMEZONE
TZID:America/Los_Angeles
BEGIN:DAYLIGHT
TZOFFSETFROM:-0800
TZOFFSETTO:-0700
TZNAME:PDT
DTSTART:20220313T100000
END:DAYLIGHT
BEGIN:STANDARD
TZOFFSETFROM:-0700
TZOFFSETTO:-0800
TZNAME:PST
DTSTART:20221106T090000
END:STANDARD
END:VTIMEZONE
BEGIN:VEVENT
DTSTART;TZID=America/Los_Angeles:20220803T133000
DTEND;TZID=America/Los_Angeles:20220803T153000
DTSTAMP:20260422T043525
CREATED:20220708T211626Z
LAST-MODIFIED:20220708T211626Z
UID:17349-1659533400-1659540600@waterwrights.net
SUMMARY:South Delta Water Authority 1:30pm
DESCRIPTION:SDWA 1:30pm – 3:30pm\n4255 W. Pacific Ave Stockton CA 95207\nhttps://southdeltawater.org/
URL:https://waterwrights.net/event/south-delta-water-authority-130pm/
END:VEVENT
BEGIN:VEVENT
DTSTART;TZID=America/Los_Angeles:20220803T140000
DTEND;TZID=America/Los_Angeles:20220803T160000
DTSTAMP:20260422T043525
CREATED:20220711T194005Z
LAST-MODIFIED:20220801T224532Z
UID:17388-1659535200-1659542400@waterwrights.net
SUMMARY:McMullin Area GSA CANCELLED
DESCRIPTION:MMAGSA 2pm – 4pm\nKerman Community Center\, 15101 W. Kearney Blvd.\, Kerman\, CA 93630\nwww.mcmullinarea.org
URL:https://waterwrights.net/event/mcmullin-area-gsa-200pm/
END:VEVENT
END:VCALENDAR