BEGIN:VCALENDAR
VERSION:2.0
PRODID:-//Water Wrights - ECPv5.16.4//NONSGML v1.0//EN
CALSCALE:GREGORIAN
METHOD:PUBLISH
X-WR-CALNAME:Water Wrights
X-ORIGINAL-URL:https://waterwrights.net
X-WR-CALDESC:Events for Water Wrights
BEGIN:VTIMEZONE
TZID:America/Los_Angeles
BEGIN:DAYLIGHT
TZOFFSETFROM:-0800
TZOFFSETTO:-0700
TZNAME:PDT
DTSTART:20220313T100000
END:DAYLIGHT
BEGIN:STANDARD
TZOFFSETFROM:-0700
TZOFFSETTO:-0800
TZNAME:PST
DTSTART:20221106T090000
END:STANDARD
END:VTIMEZONE
BEGIN:VEVENT
DTSTART;TZID=America/Los_Angeles:20220809T080000
DTEND;TZID=America/Los_Angeles:20220809T100000
DTSTAMP:20260422T043530
CREATED:20220708T205625Z
LAST-MODIFIED:20220809T021238Z
UID:17323-1660032000-1660039200@waterwrights.net
SUMMARY:Rosedale Rio Bravo Water Storage District 8:00am
DESCRIPTION:Rosedale Rio Bravo WSD 8am – 10am\n849 Allen Road Bakersfield CA 93314\nwww.rrbwsd.com
URL:https://waterwrights.net/event/rosedale-rio-bravo-water-service-district-800am-2/
END:VEVENT
BEGIN:VEVENT
DTSTART;TZID=America/Los_Angeles:20220809T090000
DTEND;TZID=America/Los_Angeles:20220809T110000
DTSTAMP:20260422T043530
CREATED:20220707T214142Z
LAST-MODIFIED:20220804T194540Z
UID:17298-1660035600-1660042800@waterwrights.net
SUMMARY:Tulare Irrigation District 9:00am
DESCRIPTION:Tulare ID 9am – 11am\n6826 Avenue 240 Tulare CA 93274\nwww.tulareid.org
URL:https://waterwrights.net/event/tulare-irrigation-district-900am-2/
END:VEVENT
BEGIN:VEVENT
DTSTART;TZID=America/Los_Angeles:20220809T090000
DTEND;TZID=America/Los_Angeles:20220809T110000
DTSTAMP:20260422T043530
CREATED:20220707T214640Z
LAST-MODIFIED:20220804T194604Z
UID:17302-1660035600-1660042800@waterwrights.net
SUMMARY:Lower Tule River Irrigation District 9:00am
DESCRIPTION:Lower Tule River ID 9am – 11am\n357 East Olive Ave Tipton CA 93272\nwww.ltrid.org
URL:https://waterwrights.net/event/lower-tule-river-irrigation-district-900am-2/
END:VEVENT
BEGIN:VEVENT
DTSTART;TZID=America/Los_Angeles:20220809T090000
DTEND;TZID=America/Los_Angeles:20220809T110000
DTSTAMP:20260422T043530
CREATED:20220707T214904Z
LAST-MODIFIED:20220804T194638Z
UID:17304-1660035600-1660042800@waterwrights.net
SUMMARY:Pixley Irrigation District 9:00am
DESCRIPTION:Pixley ID 9am – 11am\n357 East Olive Ave Tipton CA 93272\nwww.ltrid.org
URL:https://waterwrights.net/event/pixley-irrigation-district-900am-2/
END:VEVENT
BEGIN:VEVENT
DTSTART;TZID=America/Los_Angeles:20220809T090000
DTEND;TZID=America/Los_Angeles:20220809T110000
DTSTAMP:20260422T043530
CREATED:20220708T210736Z
LAST-MODIFIED:20220804T194701Z
UID:17337-1660035600-1660042800@waterwrights.net
SUMMARY:Turlock Irrigation District 9:00am
DESCRIPTION:Turlock ID 9am – 11am\n333 E. Canal Drive Turlock CA 95380\nwww.tid.org
URL:https://waterwrights.net/event/turlock-irrigation-district-900am-6/
END:VEVENT
BEGIN:VEVENT
DTSTART;TZID=America/Los_Angeles:20220809T090000
DTEND;TZID=America/Los_Angeles:20220809T110000
DTSTAMP:20260422T043530
CREATED:20220708T211112Z
LAST-MODIFIED:20220804T194744Z
UID:17345-1660035600-1660042800@waterwrights.net
SUMMARY:Modesto Irrigation District 9:00am
DESCRIPTION:Modesto ID 9am – 11am\n1231 11 Street Modesto CA 95354\nwww.mid.org
URL:https://waterwrights.net/event/modesto-irrigation-district-900am-2/
END:VEVENT
BEGIN:VEVENT
DTSTART;TZID=America/Los_Angeles:20220809T090000
DTEND;TZID=America/Los_Angeles:20220809T110000
DTSTAMP:20260422T043530
CREATED:20220708T211740Z
LAST-MODIFIED:20220804T194810Z
UID:17351-1660035600-1660042800@waterwrights.net
SUMMARY:South San Joaquin Irrigation District 9:00am
DESCRIPTION:South San Joaquin ID 9am – 11am\n11011 E. Highway 120 Manteca CA 95336\nwww.ssjid.com
URL:https://waterwrights.net/event/south-san-joaquin-irrigation-district-900am-4/
END:VEVENT
BEGIN:VEVENT
DTSTART;TZID=America/Los_Angeles:20220809T120000
DTEND;TZID=America/Los_Angeles:20220809T140000
DTSTAMP:20260422T043530
CREATED:20220708T210116Z
LAST-MODIFIED:20220809T020300Z
UID:17329-1660046400-1660053600@waterwrights.net
SUMMARY:Arvin Edison Water Storage District 12:00pm
DESCRIPTION:Arvin Edison WSD 12pm – 2pm\n20401 Bear Mountain Blvd Arvin CA 93203\nwww.aewsd.org
URL:https://waterwrights.net/event/arvin-edison-water-service-district-1200pm-2/
END:VEVENT
BEGIN:VEVENT
DTSTART;TZID=America/Los_Angeles:20220809T123000
DTEND;TZID=America/Los_Angeles:20220809T143000
DTSTAMP:20260422T043530
CREATED:20220708T212115Z
LAST-MODIFIED:20220804T195211Z
UID:17355-1660048200-1660055400@waterwrights.net
SUMMARY:Stockton East Water District 12:30pm
DESCRIPTION:Stockton East WD 12:30pm – 2:30pm\n6767 E. Main Street Stockton CA 95215\nwww.sewd.net
URL:https://waterwrights.net/event/stockton-east-water-district-1230pm-2/
END:VEVENT
BEGIN:VEVENT
DTSTART;TZID=America/Los_Angeles:20220809T130000
DTEND;TZID=America/Los_Angeles:20220809T150000
DTSTAMP:20260422T043530
CREATED:20220707T213352Z
LAST-MODIFIED:20220804T195231Z
UID:17292-1660050000-1660057200@waterwrights.net
SUMMARY:Kings County Water District 1:00pm
DESCRIPTION:Kings County WD 1pm – 3pm\n200 Campus Drive Hanford CA 93230\nwww.kingscwd.org
URL:https://waterwrights.net/event/kings-county-water-district-100pm/
END:VEVENT
BEGIN:VEVENT
DTSTART;TZID=America/Los_Angeles:20220809T130000
DTEND;TZID=America/Los_Angeles:20220809T150000
DTSTAMP:20260422T043530
CREATED:20220711T194745Z
LAST-MODIFIED:20220806T182614Z
UID:17396-1660050000-1660057200@waterwrights.net
SUMMARY:El Rico GSA 1:00pm Cancelled
DESCRIPTION:El Rico GSA 1pm – 3pm  Cancelled\n1001 Chase Avenue\, Corcoran CA 93212\nwww.elricogsa.com
URL:https://waterwrights.net/event/el-rico-gsa-100pm-2/
END:VEVENT
BEGIN:VEVENT
DTSTART;TZID=America/Los_Angeles:20220809T140000
DTEND;TZID=America/Los_Angeles:20220809T160000
DTSTAMP:20260422T043530
CREATED:20220707T214329Z
LAST-MODIFIED:20220804T195318Z
UID:17300-1660053600-1660060800@waterwrights.net
SUMMARY:Lindmore Irrigation District 2:00pm
DESCRIPTION:Lindmore ID 2pm – 4pm\n315 E. Lindmore Street Lindsay CA 93247\nwww.lindmoreid.com
URL:https://waterwrights.net/event/lindmore-irrigation-district-200pm-2/
END:VEVENT
BEGIN:VEVENT
DTSTART;TZID=America/Los_Angeles:20220809T150000
DTEND;TZID=America/Los_Angeles:20220809T170000
DTSTAMP:20260422T043530
CREATED:20220708T210215Z
LAST-MODIFIED:20220804T195344Z
UID:17331-1660057200-1660064400@waterwrights.net
SUMMARY:Kern Water Bank 3pm
DESCRIPTION:Kern Water Bank 3pm – 5pm\n1620 Mill Rock Way\, Ste 500 Bakersfield CA 93311\nwww.kwb.org
URL:https://waterwrights.net/event/kern-water-bank-3pm-17/
END:VEVENT
END:VCALENDAR