BEGIN:VCALENDAR
VERSION:2.0
PRODID:-//Water Wrights - ECPv5.16.4//NONSGML v1.0//EN
CALSCALE:GREGORIAN
METHOD:PUBLISH
X-WR-CALNAME:Water Wrights
X-ORIGINAL-URL:https://waterwrights.net
X-WR-CALDESC:Events for Water Wrights
BEGIN:VTIMEZONE
TZID:America/Los_Angeles
BEGIN:DAYLIGHT
TZOFFSETFROM:-0800
TZOFFSETTO:-0700
TZNAME:PDT
DTSTART:20220313T100000
END:DAYLIGHT
BEGIN:STANDARD
TZOFFSETFROM:-0700
TZOFFSETTO:-0800
TZNAME:PST
DTSTART:20221106T090000
END:STANDARD
END:VTIMEZONE
BEGIN:VEVENT
DTSTART;TZID=America/Los_Angeles:20220811T090000
DTEND;TZID=America/Los_Angeles:20220811T110000
DTSTAMP:20260422T043413
CREATED:20220708T205420Z
LAST-MODIFIED:20220804T195647Z
UID:17320-1660208400-1660215600@waterwrights.net
SUMMARY:Cawelo Water District 9:00am
DESCRIPTION:Cawelo WD 9am – 11am\n17207 Industrial Farm Road Bakersfield CA 93308\nwww.cawelowd.org
URL:https://waterwrights.net/event/cawelo-water-district-900am-2/
END:VEVENT
BEGIN:VEVENT
DTSTART;TZID=America/Los_Angeles:20220811T090000
DTEND;TZID=America/Los_Angeles:20220811T110000
DTSTAMP:20260422T043413
CREATED:20220708T212712Z
LAST-MODIFIED:20220804T195714Z
UID:17363-1660208400-1660215600@waterwrights.net
SUMMARY:Glenn-Colusa Irrigation District 9:00am
DESCRIPTION:Glenn-Colusa ID 9am – 11am\n344 E Laurel Street Willows CA 95988\nwww.gcid.net
URL:https://waterwrights.net/event/glenn-colusa-irrigation-district-900am-3/
END:VEVENT
BEGIN:VEVENT
DTSTART;TZID=America/Los_Angeles:20220811T093000
DTEND;TZID=America/Los_Angeles:20220811T233000
DTSTAMP:20260422T043413
CREATED:20220708T210335Z
LAST-MODIFIED:20220804T195745Z
UID:17333-1660210200-1660260600@waterwrights.net
SUMMARY:San Luis Delta Mendota 9:30am
DESCRIPTION:San Luis Delta Mendota 9:30am\n842 6th Street Los Banos CA 93635\nwww.sldmwa.org
URL:https://waterwrights.net/event/san-luis-delta-mendota-930am-5/
END:VEVENT
BEGIN:VEVENT
DTSTART;TZID=America/Los_Angeles:20220811T100000
DTEND;TZID=America/Los_Angeles:20220811T113000
DTSTAMP:20260422T043413
CREATED:20220707T212743Z
LAST-MODIFIED:20220804T195813Z
UID:17284-1660212000-1660217400@waterwrights.net
SUMMARY:Triangle T Water District + GSA 10:00am
DESCRIPTION:Triangle T GSA 10:00 – 11:00\nTriangle T WD 11:00 – 11:30\n4400 Hays Drive Chowchilla CA 93610\nwww.triangletwaterdistrict.org
URL:https://waterwrights.net/event/triangle-t-water-district-gsa-1000am-2/
END:VEVENT
BEGIN:VEVENT
DTSTART;TZID=America/Los_Angeles:20220811T100000
DTEND;TZID=America/Los_Angeles:20220811T120000
DTSTAMP:20260422T043413
CREATED:20220708T212257Z
LAST-MODIFIED:20220804T200030Z
UID:17357-1660212000-1660219200@waterwrights.net
SUMMARY:Butte Water District 10:00am
DESCRIPTION:Butte WD 10am – 12pm\n735 Virginia Street Gridley CA 95948\nwww.buttewaterdistrict.org
URL:https://waterwrights.net/event/butte-water-district-1000am-2/
END:VEVENT
BEGIN:VEVENT
DTSTART;TZID=America/Los_Angeles:20220811T100000
DTEND;TZID=America/Los_Angeles:20220811T120000
DTSTAMP:20260422T043413
CREATED:20220711T193334Z
LAST-MODIFIED:20220804T200107Z
UID:17384-1660212000-1660219200@waterwrights.net
SUMMARY:TriAngle T GSA 10:00am
DESCRIPTION:TriAngle T GSA 10am – 12pm\n4400 Hays Drive Chowchilla CA 93610\nwww.triangletwaterdistrict.org
URL:https://waterwrights.net/event/triangle-t-gsa-1000am/
END:VEVENT
BEGIN:VEVENT
DTSTART;TZID=America/Los_Angeles:20220811T140000
DTEND;TZID=America/Los_Angeles:20220811T160000
DTSTAMP:20260422T043413
CREATED:20220712T184816Z
LAST-MODIFIED:20220809T023731Z
UID:17401-1660226400-1660233600@waterwrights.net
SUMMARY:Eastern Tule GSA Stakeholder Committee 2:00pm
DESCRIPTION:Eastern Tule GSA SC 2pm – 4pm\n881 W. Morton Avenue\, Suite D\, Porterville\, CA 93257
URL:https://waterwrights.net/event/etgsa-stakeholder-committee-cancelled/
END:VEVENT
END:VCALENDAR