BEGIN:VCALENDAR
VERSION:2.0
PRODID:-//Water Wrights - ECPv5.16.4//NONSGML v1.0//EN
CALSCALE:GREGORIAN
METHOD:PUBLISH
X-WR-CALNAME:Water Wrights
X-ORIGINAL-URL:https://waterwrights.net
X-WR-CALDESC:Events for Water Wrights
BEGIN:VTIMEZONE
TZID:America/Los_Angeles
BEGIN:DAYLIGHT
TZOFFSETFROM:-0800
TZOFFSETTO:-0700
TZNAME:PDT
DTSTART:20220313T100000
END:DAYLIGHT
BEGIN:STANDARD
TZOFFSETFROM:-0700
TZOFFSETTO:-0800
TZNAME:PST
DTSTART:20221106T090000
END:STANDARD
END:VTIMEZONE
BEGIN:VEVENT
DTSTART;TZID=America/Los_Angeles:20220815T083000
DTEND;TZID=America/Los_Angeles:20220815T103000
DTSTAMP:20260422T043416
CREATED:20220707T215116Z
LAST-MODIFIED:20220812T194705Z
UID:17308-1660552200-1660559400@waterwrights.net
SUMMARY:FWA Executive Committee 8:30am
DESCRIPTION:
URL:https://waterwrights.net/event/fwa-executive-committee-830am-2/
LOCATION:854 N Harvard Ave\, Lindsay\, CA 93247\, 854 N Harvard Ave\,\, Lindsay\, CA\, 93247\, United States
END:VEVENT
BEGIN:VEVENT
DTSTART;TZID=America/Los_Angeles:20220815T130000
DTEND;TZID=America/Los_Angeles:20220815T150000
DTSTAMP:20260422T043416
CREATED:20220711T194147Z
LAST-MODIFIED:20220809T013509Z
UID:17390-1660568400-1660575600@waterwrights.net
SUMMARY:Greater Kaweah GSA 1:00pm
DESCRIPTION:Greater Kaweah GSA 1pm – 3pm\nKaweah Delta WCD offices\nwww.greaterkaweahgsa.org
URL:https://waterwrights.net/event/greater-kaweah-gsa-100pm-2/
LOCATION:CA
END:VEVENT
BEGIN:VEVENT
DTSTART;TZID=America/Los_Angeles:20220815T160000
DTEND;TZID=America/Los_Angeles:20220815T180000
DTSTAMP:20260422T043416
CREATED:20220811T233508Z
LAST-MODIFIED:20220811T233508Z
UID:18200-1660579200-1660586400@waterwrights.net
SUMMARY:East Kaweah GSA CANCELLED
DESCRIPTION:East Kaweah GSA 4pm – 6pm\nLindmore ID 315 E. Lindmore Street\, Lindsay\, CA 93247\nwww.ekgsa.org
URL:https://waterwrights.net/event/east-kaweah-gsa-cancelled/
LOCATION:CA
END:VEVENT
END:VCALENDAR